BEGIN:VCALENDAR
VERSION:2.0
PRODID:-//Bristol Baseball Club - ECPv6.15.20//NONSGML v1.0//EN
CALSCALE:GREGORIAN
METHOD:PUBLISH
X-ORIGINAL-URL:https://www.bristolbaseball.co.uk
X-WR-CALDESC:Events for Bristol Baseball Club
REFRESH-INTERVAL;VALUE=DURATION:PT1H
X-Robots-Tag:noindex
X-PUBLISHED-TTL:PT1H
BEGIN:VTIMEZONE
TZID:Europe/London
BEGIN:DAYLIGHT
TZOFFSETFROM:+0000
TZOFFSETTO:+0100
TZNAME:BST
DTSTART:20250330T010000
END:DAYLIGHT
BEGIN:STANDARD
TZOFFSETFROM:+0100
TZOFFSETTO:+0000
TZNAME:GMT
DTSTART:20251026T010000
END:STANDARD
BEGIN:DAYLIGHT
TZOFFSETFROM:+0000
TZOFFSETTO:+0100
TZNAME:BST
DTSTART:20260329T010000
END:DAYLIGHT
BEGIN:STANDARD
TZOFFSETFROM:+0100
TZOFFSETTO:+0000
TZNAME:GMT
DTSTART:20261025T010000
END:STANDARD
BEGIN:DAYLIGHT
TZOFFSETFROM:+0000
TZOFFSETTO:+0100
TZNAME:BST
DTSTART:20270328T010000
END:DAYLIGHT
BEGIN:STANDARD
TZOFFSETFROM:+0100
TZOFFSETTO:+0000
TZNAME:GMT
DTSTART:20271031T010000
END:STANDARD
END:VTIMEZONE
BEGIN:VEVENT
DTSTART;VALUE=DATE:20260510
DTEND;VALUE=DATE:20260511
DTSTAMP:20260423T225744
CREATED:20260324T115806Z
LAST-MODIFIED:20260324T124112Z
UID:7580-1778371200-1778457599@www.bristolbaseball.co.uk
SUMMARY:BRISTOL BATS @ Exeter Spitfires
DESCRIPTION:
URL:https://www.bristolbaseball.co.uk/event/bristol-bats-exeter-spitfires/
LOCATION:Chadwick Field\, Grace Road South\, Exeter\, Devon\, EX2 8QE\, United Kingdom
CATEGORIES:Bats,BBF,Gameday
END:VEVENT
BEGIN:VEVENT
DTSTART;VALUE=DATE:20260510
DTEND;VALUE=DATE:20260511
DTSTAMP:20260423T225744
CREATED:20260324T115806Z
LAST-MODIFIED:20260324T115806Z
UID:7581-1778371200-1778457599@www.bristolbaseball.co.uk
SUMMARY:BRISTOL BUCCS @ Newton Abbott Brewers
DESCRIPTION:
URL:https://www.bristolbaseball.co.uk/event/bristol-buccs-newton-abbott-brewers/
LOCATION:The Pavilion\, Manor Drive\, Newton Abbot\, Newton Abbot\, TQ12 5HB\, United Kingdom
CATEGORIES:BBF,Buccaneers,Gameday
END:VEVENT
BEGIN:VEVENT
DTSTART;VALUE=DATE:20260510
DTEND;VALUE=DATE:20260511
DTSTAMP:20260423T225744
CREATED:20260324T115806Z
LAST-MODIFIED:20260324T115806Z
UID:7582-1778371200-1778457599@www.bristolbaseball.co.uk
SUMMARY:New Forest Knights @ BRISTOL BRUNELS
DESCRIPTION:
URL:https://www.bristolbaseball.co.uk/event/new-forest-knights-bristol-brunels-4/
LOCATION:Somerdale Pavilion\, Trajectus Way\, Keynsham\, BS31 2FW
CATEGORIES:BBF,Brunels,Gameday
END:VEVENT
BEGIN:VEVENT
DTSTART;VALUE=DATE:20260517
DTEND;VALUE=DATE:20260518
DTSTAMP:20260423T225744
CREATED:20260324T120008Z
LAST-MODIFIED:20260324T120008Z
UID:7587-1778976000-1779062399@www.bristolbaseball.co.uk
SUMMARY:BRISTOL BRUNELS @ New Forest Thunder
DESCRIPTION:
URL:https://www.bristolbaseball.co.uk/event/bristol-brunels-new-forest-thunder/
LOCATION:Gang Warily Leisure Centre\, Newlands Road\, Southampton\, Hampshire\, SO45 1GA\, United Kingdom
CATEGORIES:BBF,Brunels,Gameday
END:VEVENT
BEGIN:VEVENT
DTSTART;VALUE=DATE:20260517
DTEND;VALUE=DATE:20260518
DTSTAMP:20260423T225744
CREATED:20260324T120008Z
LAST-MODIFIED:20260324T120008Z
UID:7585-1778976000-1779062399@www.bristolbaseball.co.uk
SUMMARY:Taunton Muskets @ BRISTOL BATS
DESCRIPTION:
URL:https://www.bristolbaseball.co.uk/event/taunton-muskets-bristol-bats-2/
LOCATION:Somerdale Pavilion\, Trajectus Way\, Keynsham\, BS31 2FW
CATEGORIES:Bats,BBF,Gameday
END:VEVENT
BEGIN:VEVENT
DTSTART;VALUE=DATE:20260517
DTEND;VALUE=DATE:20260518
DTSTAMP:20260423T225744
CREATED:20260324T120008Z
LAST-MODIFIED:20260324T120008Z
UID:7586-1778976000-1779062399@www.bristolbaseball.co.uk
SUMMARY:BRISTOL BUCCS @ Weston Jets
DESCRIPTION:
URL:https://www.bristolbaseball.co.uk/event/bristol-buccs-weston-jets/
LOCATION:Hutton Moor Leisure Centre\, Herluin Way\, Weston-super-Mare\, Somerset\, S23 3YN\, United Kingdom
CATEGORIES:BBF,Buccaneers,Gameday
END:VEVENT
END:VCALENDAR