BEGIN:VCALENDAR
VERSION:2.0
PRODID:-//Bristol Baseball Club - ECPv6.15.20//NONSGML v1.0//EN
CALSCALE:GREGORIAN
METHOD:PUBLISH
X-ORIGINAL-URL:https://www.bristolbaseball.co.uk
X-WR-CALDESC:Events for Bristol Baseball Club
REFRESH-INTERVAL;VALUE=DURATION:PT1H
X-Robots-Tag:noindex
X-PUBLISHED-TTL:PT1H
BEGIN:VTIMEZONE
TZID:Europe/London
BEGIN:DAYLIGHT
TZOFFSETFROM:+0000
TZOFFSETTO:+0100
TZNAME:BST
DTSTART:20250330T010000
END:DAYLIGHT
BEGIN:STANDARD
TZOFFSETFROM:+0100
TZOFFSETTO:+0000
TZNAME:GMT
DTSTART:20251026T010000
END:STANDARD
BEGIN:DAYLIGHT
TZOFFSETFROM:+0000
TZOFFSETTO:+0100
TZNAME:BST
DTSTART:20260329T010000
END:DAYLIGHT
BEGIN:STANDARD
TZOFFSETFROM:+0100
TZOFFSETTO:+0000
TZNAME:GMT
DTSTART:20261025T010000
END:STANDARD
BEGIN:DAYLIGHT
TZOFFSETFROM:+0000
TZOFFSETTO:+0100
TZNAME:BST
DTSTART:20270328T010000
END:DAYLIGHT
BEGIN:STANDARD
TZOFFSETFROM:+0100
TZOFFSETTO:+0000
TZNAME:GMT
DTSTART:20271031T010000
END:STANDARD
END:VTIMEZONE
BEGIN:VEVENT
DTSTART;VALUE=DATE:20260322
DTEND;VALUE=DATE:20260323
DTSTAMP:20260424T001706
CREATED:20251231T132119Z
LAST-MODIFIED:20251231T132119Z
UID:7548-1774137600-1774223999@www.bristolbaseball.co.uk
SUMMARY:Field Maintenance Day 1
DESCRIPTION:We don’t have one of the best fields in the UK by accident! Help is always needed to prepare the field for the upcoming season (and enact repairs after the inevitable January flooding!).
URL:https://www.bristolbaseball.co.uk/event/field-maintenance-day-1/
LOCATION:Somerdale Pavilion\, Trajectus Way\, Keynsham\, BS31 2FW
END:VEVENT
BEGIN:VEVENT
DTSTART;VALUE=DATE:20260328
DTEND;VALUE=DATE:20260329
DTSTAMP:20260424T001706
CREATED:20251231T132119Z
LAST-MODIFIED:20251231T132119Z
UID:7549-1774656000-1774742399@www.bristolbaseball.co.uk
SUMMARY:Field Maintenance Day 2
DESCRIPTION:We don’t have one of the best fields in the UK by accident! Help is always needed to prepare the field for the upcoming season (and enact repairs after the inevitable January flooding!).
URL:https://www.bristolbaseball.co.uk/event/field-maintenance-day-2/
LOCATION:Somerdale Pavilion\, Trajectus Way\, Keynsham\, BS31 2FW
END:VEVENT
END:VCALENDAR