BEGIN:VCALENDAR
VERSION:2.0
PRODID:-//Bristol Baseball Club - ECPv6.15.20//NONSGML v1.0//EN
CALSCALE:GREGORIAN
METHOD:PUBLISH
X-WR-CALNAME:Bristol Baseball Club
X-ORIGINAL-URL:https://www.bristolbaseball.co.uk
X-WR-CALDESC:Events for Bristol Baseball Club
REFRESH-INTERVAL;VALUE=DURATION:PT1H
X-Robots-Tag:noindex
X-PUBLISHED-TTL:PT1H
BEGIN:VTIMEZONE
TZID:Europe/London
BEGIN:DAYLIGHT
TZOFFSETFROM:+0000
TZOFFSETTO:+0100
TZNAME:BST
DTSTART:20220327T010000
END:DAYLIGHT
BEGIN:STANDARD
TZOFFSETFROM:+0100
TZOFFSETTO:+0000
TZNAME:GMT
DTSTART:20221030T010000
END:STANDARD
BEGIN:DAYLIGHT
TZOFFSETFROM:+0000
TZOFFSETTO:+0100
TZNAME:BST
DTSTART:20230326T010000
END:DAYLIGHT
BEGIN:STANDARD
TZOFFSETFROM:+0100
TZOFFSETTO:+0000
TZNAME:GMT
DTSTART:20231029T010000
END:STANDARD
BEGIN:DAYLIGHT
TZOFFSETFROM:+0000
TZOFFSETTO:+0100
TZNAME:BST
DTSTART:20240331T010000
END:DAYLIGHT
BEGIN:STANDARD
TZOFFSETFROM:+0100
TZOFFSETTO:+0000
TZNAME:GMT
DTSTART:20241027T010000
END:STANDARD
BEGIN:DAYLIGHT
TZOFFSETFROM:+0000
TZOFFSETTO:+0100
TZNAME:BST
DTSTART:20250330T010000
END:DAYLIGHT
BEGIN:STANDARD
TZOFFSETFROM:+0100
TZOFFSETTO:+0000
TZNAME:GMT
DTSTART:20251026T010000
END:STANDARD
BEGIN:DAYLIGHT
TZOFFSETFROM:+0000
TZOFFSETTO:+0100
TZNAME:BST
DTSTART:20260329T010000
END:DAYLIGHT
BEGIN:STANDARD
TZOFFSETFROM:+0100
TZOFFSETTO:+0000
TZNAME:GMT
DTSTART:20261025T010000
END:STANDARD
BEGIN:DAYLIGHT
TZOFFSETFROM:+0000
TZOFFSETTO:+0100
TZNAME:BST
DTSTART:20270328T010000
END:DAYLIGHT
BEGIN:STANDARD
TZOFFSETFROM:+0100
TZOFFSETTO:+0000
TZNAME:GMT
DTSTART:20271031T010000
END:STANDARD
END:VTIMEZONE
BEGIN:VEVENT
DTSTART;TZID=Europe/London:20260315T100000
DTEND;TZID=Europe/London:20260315T130000
DTSTAMP:20260423T220037
CREATED:20251231T132118Z
LAST-MODIFIED:20251231T133011Z
UID:7547-1773568800-1773579600@www.bristolbaseball.co.uk
SUMMARY:Indoor Pre-Season Training
DESCRIPTION:Indoor pre-season training at Merchants’ Academy.
URL:https://www.bristolbaseball.co.uk/event/indoor-pre-season-training-6/
LOCATION:Merchants Academy\, Molesworth Drive\, Bristol\, BS13 9BJ\, United Kingdom
CATEGORIES:Pre-Season,Training
END:VEVENT
BEGIN:VEVENT
DTSTART;TZID=Europe/London:20260308T100000
DTEND;TZID=Europe/London:20260308T130000
DTSTAMP:20260423T220037
CREATED:20251231T132104Z
LAST-MODIFIED:20251231T133204Z
UID:7546-1772964000-1772974800@www.bristolbaseball.co.uk
SUMMARY:Indoor Pre-Season Training
DESCRIPTION:Indoor pre-season training. NOTE: This session is at SGS Wise Campus in Filton\, not the usual Merchants’ Academy hall.
URL:https://www.bristolbaseball.co.uk/event/indoor-pre-season-training-5/
LOCATION:SGS College WISE Campus\, New Rd\, Stoke Gifford\, Bristol\, BS34 8LP\, United Kingdom
CATEGORIES:Pre-Season,Training
END:VEVENT
BEGIN:VEVENT
DTSTART;TZID=Europe/London:20260301T100000
DTEND;TZID=Europe/London:20260301T130000
DTSTAMP:20260423T220037
CREATED:20251231T132104Z
LAST-MODIFIED:20251231T133235Z
UID:7545-1772359200-1772370000@www.bristolbaseball.co.uk
SUMMARY:Indoor Pre-Season Training
DESCRIPTION:Indoor pre-season training at Merchants’ Academy.
URL:https://www.bristolbaseball.co.uk/event/indoor-pre-season-training-4/
LOCATION:Merchants Academy\, Molesworth Drive\, Bristol\, BS13 9BJ\, United Kingdom
CATEGORIES:Pre-Season,Training
END:VEVENT
BEGIN:VEVENT
DTSTART;TZID=Europe/London:20260222T120000
DTEND;TZID=Europe/London:20260222T150000
DTSTAMP:20260423T220037
CREATED:20251231T132103Z
LAST-MODIFIED:20251231T133305Z
UID:7544-1771761600-1771772400@www.bristolbaseball.co.uk
SUMMARY:Indoor Pre-Season Training
DESCRIPTION:Indoor pre-season training at Merchants’ Academy.
URL:https://www.bristolbaseball.co.uk/event/indoor-pre-season-training-3/
LOCATION:Merchants Academy\, Molesworth Drive\, Bristol\, BS13 9BJ\, United Kingdom
CATEGORIES:Pre-Season,Training
END:VEVENT
BEGIN:VEVENT
DTSTART;TZID=Europe/London:20260215T100000
DTEND;TZID=Europe/London:20260215T130000
DTSTAMP:20260423T220037
CREATED:20251231T132102Z
LAST-MODIFIED:20251231T133338Z
UID:7543-1771149600-1771160400@www.bristolbaseball.co.uk
SUMMARY:Indoor Pre-Season Training
DESCRIPTION:Indoor pre-season training at Merchants’ Academy.
URL:https://www.bristolbaseball.co.uk/event/indoor-pre-season-training-2/
LOCATION:Merchants Academy\, Molesworth Drive\, Bristol\, BS13 9BJ\, United Kingdom
CATEGORIES:Pre-Season,Training
END:VEVENT
BEGIN:VEVENT
DTSTART;TZID=Europe/London:20260208T100000
DTEND;TZID=Europe/London:20260208T130000
DTSTAMP:20260423T220037
CREATED:20251231T132100Z
LAST-MODIFIED:20251231T133514Z
UID:7540-1770544800-1770555600@www.bristolbaseball.co.uk
SUMMARY:Indoor Pre-Season Training
DESCRIPTION:Indoor pre-season training at Merchants’ Academy.
URL:https://www.bristolbaseball.co.uk/event/indoor-pre-season-training/
LOCATION:Merchants Academy\, Molesworth Drive\, Bristol\, BS13 9BJ\, United Kingdom
CATEGORIES:Pre-Season,Training
END:VEVENT
BEGIN:VEVENT
DTSTART;TZID=Europe/London:20250524T120000
DTEND;TZID=Europe/London:20250524T140000
DTSTAMP:20260423T220037
CREATED:20250407T221224Z
LAST-MODIFIED:20250407T221224Z
UID:7354-1748088000-1748095200@www.bristolbaseball.co.uk
SUMMARY:Girls In Baseball Event
DESCRIPTION:Join us as we celebrate Girls in Baseball at Somerdale Pavilion. This is a free event aimed at girls from 5 to 14 to come along and have fun playing baseball.\nThis event coincides with the home opener for the SWWBL Serpents\, the south west’s Women’s Baseball League team\, who will be playing on the diamond at Somerdale. So you can try the game out whilst watching some games!
URL:https://www.bristolbaseball.co.uk/event/girls-in-baseball-event/
LOCATION:Somerdale Pavilion\, Trajectus Way\, Keynsham\, BS31 2FW
CATEGORIES:BBF,SWWBL,Taster Sessions,WBL,Youth
ATTACH;FMTTYPE=image/png:https://www.bristolbaseball.co.uk/wp-content/uploads/2025/04/GirlsInBaseball.png
END:VEVENT
BEGIN:VEVENT
DTSTART;TZID=Europe/London:20250412T130000
DTEND;TZID=Europe/London:20250412T130000
DTSTAMP:20260423T220037
CREATED:20250202T204040Z
LAST-MODIFIED:20250202T204536Z
UID:7205-1744462800-1744462800@www.bristolbaseball.co.uk
SUMMARY:[Youth] GB South West Tryout
DESCRIPTION:Following the morning’s training session\, GB coaches are holding open training sessions for under-18s. This is a regional tryout\, open to anyone in the South West.
URL:https://www.bristolbaseball.co.uk/event/gb-south-west-tryout/
LOCATION:Somerdale Pavilion\, Trajectus Way\, Keynsham\, BS31 2FW
CATEGORIES:GB Baseball,Training,Youth
END:VEVENT
BEGIN:VEVENT
DTSTART;TZID=Europe/London:20250412T100000
DTEND;TZID=Europe/London:20250412T123000
DTSTAMP:20260423T220037
CREATED:20250202T203640Z
LAST-MODIFIED:20250202T204448Z
UID:7203-1744452000-1744461000@www.bristolbaseball.co.uk
SUMMARY:Training With GB Coaching Team
DESCRIPTION:Several members from the Great Britain Baseball coaching team will be on hand at Somerdale to take a special training session. Members: You will need to sign up for this\, see Spond for details.
URL:https://www.bristolbaseball.co.uk/event/training-with-gb-coaching-team/
LOCATION:Somerdale Pavilion\, Trajectus Way\, Keynsham\, BS31 2FW
CATEGORIES:GB Baseball,Pre-Season,Training
END:VEVENT
BEGIN:VEVENT
DTSTART;VALUE=DATE:20250330
DTEND;VALUE=DATE:20250331
DTSTAMP:20260423T220037
CREATED:20250316T173608Z
LAST-MODIFIED:20250316T173609Z
UID:7343-1743292800-1743379199@www.bristolbaseball.co.uk
SUMMARY:Showdown by the Severn 2025
DESCRIPTION:Join us for a day of baseball action as we prepare for the 2025 season. Teams from Bristol Baseball Club\, New Forest Baseball Club\, Yeovil Whirlwinds and Bournemouth Bears will meet at Somerdale Pavilion for a total of eight games of baseball across two diamonds. Games start at 11am\, 1pm and 3pm.
URL:https://www.bristolbaseball.co.uk/event/showdown-by-the-severn-2025/
LOCATION:Somerdale Pavilion\, Trajectus Way\, Keynsham\, BS31 2FW
CATEGORIES:Bats,BBF,Brunels,Buccaneers,Pre-Season,SWWBL,Tournaments
END:VEVENT
BEGIN:VEVENT
DTSTART;VALUE=DATE:20250322
DTEND;VALUE=DATE:20250323
DTSTAMP:20260423T220037
CREATED:20250202T203125Z
LAST-MODIFIED:20250202T203125Z
UID:7199-1742601600-1742687999@www.bristolbaseball.co.uk
SUMMARY:Field Maintenance Backup/Training
DESCRIPTION:If the 15th is rained off or there’s still more to do\, this will be the backup field maintenance date. If everything is completed on the 15th\, it’ll be a regular training date.
URL:https://www.bristolbaseball.co.uk/event/field-maintenance-backup-training/
LOCATION:Somerdale Pavilion\, Trajectus Way\, Keynsham\, BS31 2FW
CATEGORIES:Pre-Season,Training
END:VEVENT
BEGIN:VEVENT
DTSTART;VALUE=DATE:20250315
DTEND;VALUE=DATE:20250316
DTSTAMP:20260423T220037
CREATED:20250202T202947Z
LAST-MODIFIED:20250202T203819Z
UID:7197-1741996800-1742083199@www.bristolbaseball.co.uk
SUMMARY:Field Maintenance
DESCRIPTION:Our field isn’t one of the best in the country by accident! Please come along if you can to lend a hand and get both diamonds ready for the upcoming season. There’s plenty to do\, for people of all abilities and levels of experience. \nNote: This date is weather dependent.
URL:https://www.bristolbaseball.co.uk/event/field-maintenance/
LOCATION:Somerdale Pavilion\, Trajectus Way\, Keynsham\, BS31 2FW
CATEGORIES:Pre-Season,Training
END:VEVENT
BEGIN:VEVENT
DTSTART;VALUE=DATE:20240407
DTEND;VALUE=DATE:20240408
DTSTAMP:20260423T220037
CREATED:20240222T112730Z
LAST-MODIFIED:20240325T092016Z
UID:6568-1712448000-1712534399@www.bristolbaseball.co.uk
SUMMARY:FRIENDLY: Taunton Pistols @ Bristol
DESCRIPTION:Taunton’s new second team\, the Pistols\, travel to Somerdale to take on a selection of players from Bristol’s Single A teams in a pre-season friendly.
URL:https://www.bristolbaseball.co.uk/event/friendly-taunton-pistols-bristol/
LOCATION:Somerdale Pavilion\, Trajectus Way\, Keynsham\, BS31 2FW
CATEGORIES:Pre-Season
END:VEVENT
BEGIN:VEVENT
DTSTART;TZID=Europe/London:20240324T120000
DTEND;TZID=Europe/London:20240324T120000
DTSTAMP:20260423T220037
CREATED:20240318T093448Z
LAST-MODIFIED:20240325T093557Z
UID:6873-1711281600-1711281600@www.bristolbaseball.co.uk
SUMMARY:FRIENDLY: New Forest Thunder @ BRISTOL BATS
DESCRIPTION:A pre-season friendly between the New Forest Thunder and the Bristol Bats\, to warm up for the coming season. Note: the Thunder are a AAA team this year\, whilst the Bats play in AA\, however both teams will be using rosters made up for players from throughout the clubs.
URL:https://www.bristolbaseball.co.uk/event/friendly-new-forest-thunder-bristol-bats/
LOCATION:Somerdale Pavilion\, Trajectus Way\, Keynsham\, BS31 2FW
CATEGORIES:Bats,Pre-Season
END:VEVENT
BEGIN:VEVENT
DTSTART;TZID=Europe/London:20240310T090000
DTEND;TZID=Europe/London:20240310T120000
DTSTAMP:20260423T220037
CREATED:20240202T141028Z
LAST-MODIFIED:20240202T141346Z
UID:6555-1710061200-1710072000@www.bristolbaseball.co.uk
SUMMARY:Indoor Training: Ohtani Group
DESCRIPTION:
URL:https://www.bristolbaseball.co.uk/event/indoor-training-ohtani-group-6/
LOCATION:Merchants Academy Sports Centre\, Molesworth Drive\, Bristol\, BS13 9BJ\, United Kingdom
CATEGORIES:Badgers,Bats,Bobcats,Bristol Baseball Club Teams,Brunels,Buccaneers,Pre-Season,Training
END:VEVENT
BEGIN:VEVENT
DTSTART;TZID=Europe/London:20240309T090000
DTEND;TZID=Europe/London:20240309T120000
DTSTAMP:20260423T220037
CREATED:20240202T141013Z
LAST-MODIFIED:20240202T141336Z
UID:6554-1709974800-1709985600@www.bristolbaseball.co.uk
SUMMARY:Indoor Training: Acuna Group
DESCRIPTION:
URL:https://www.bristolbaseball.co.uk/event/indoor-training-acuna-group-5/
LOCATION:Merchants Academy Sports Centre\, Molesworth Drive\, Bristol\, BS13 9BJ\, United Kingdom
CATEGORIES:Badgers,Bats,Bobcats,Bristol Baseball Club Teams,Brunels,Buccaneers,Pre-Season,Training
END:VEVENT
BEGIN:VEVENT
DTSTART;TZID=Europe/London:20240303T090000
DTEND;TZID=Europe/London:20240303T120000
DTSTAMP:20260423T220037
CREATED:20240202T141013Z
LAST-MODIFIED:20240202T141324Z
UID:6553-1709456400-1709467200@www.bristolbaseball.co.uk
SUMMARY:Indoor Training: Ohtani Group
DESCRIPTION:
URL:https://www.bristolbaseball.co.uk/event/indoor-training-ohtani-group-5/
LOCATION:Merchants Academy Sports Centre\, Molesworth Drive\, Bristol\, BS13 9BJ\, United Kingdom
CATEGORIES:Badgers,Bats,Bobcats,Bristol Baseball Club Teams,Brunels,Buccaneers,Pre-Season,Training
END:VEVENT
BEGIN:VEVENT
DTSTART;TZID=Europe/London:20240303T090000
DTEND;TZID=Europe/London:20240303T113000
DTSTAMP:20260423T220037
CREATED:20240202T141013Z
LAST-MODIFIED:20240202T141313Z
UID:6552-1709456400-1709465400@www.bristolbaseball.co.uk
SUMMARY:Indoor Training: Acuna Group
DESCRIPTION:
URL:https://www.bristolbaseball.co.uk/event/indoor-training-acuna-group-4/
LOCATION:Merchants Academy Sports Centre\, Molesworth Drive\, Bristol\, BS13 9BJ\, United Kingdom
CATEGORIES:Badgers,Bats,Bobcats,Bristol Baseball Club Teams,Brunels,Buccaneers,Pre-Season,Training
END:VEVENT
BEGIN:VEVENT
DTSTART;TZID=Europe/London:20240225T090000
DTEND;TZID=Europe/London:20240225T120000
DTSTAMP:20260423T220037
CREATED:20240202T141012Z
LAST-MODIFIED:20240202T141300Z
UID:6551-1708851600-1708862400@www.bristolbaseball.co.uk
SUMMARY:Indoor Training: Ohtani Group
DESCRIPTION:
URL:https://www.bristolbaseball.co.uk/event/indoor-training-ohtani-group-4/
LOCATION:Merchants Academy Sports Centre\, Molesworth Drive\, Bristol\, BS13 9BJ\, United Kingdom
CATEGORIES:Badgers,Bats,Bobcats,Bristol Baseball Club Teams,Brunels,Buccaneers,Pre-Season,Training
END:VEVENT
BEGIN:VEVENT
DTSTART;TZID=Europe/London:20240224T090000
DTEND;TZID=Europe/London:20240224T120000
DTSTAMP:20260423T220037
CREATED:20240202T141012Z
LAST-MODIFIED:20240202T141249Z
UID:6550-1708765200-1708776000@www.bristolbaseball.co.uk
SUMMARY:Indoor Training: Acuna Group
DESCRIPTION:
URL:https://www.bristolbaseball.co.uk/event/indoor-training-acuna-group-3/
LOCATION:Merchants Academy Sports Centre\, Molesworth Drive\, Bristol\, BS13 9BJ\, United Kingdom
CATEGORIES:Badgers,Bats,Bobcats,Bristol Baseball Club Teams,Brunels,Buccaneers,Pre-Season,Training
END:VEVENT
BEGIN:VEVENT
DTSTART;TZID=Europe/London:20240218T090000
DTEND;TZID=Europe/London:20240218T120000
DTSTAMP:20260423T220037
CREATED:20240202T141011Z
LAST-MODIFIED:20240202T141235Z
UID:6549-1708246800-1708257600@www.bristolbaseball.co.uk
SUMMARY:Indoor Training: Ohtani Group
DESCRIPTION:
URL:https://www.bristolbaseball.co.uk/event/indoor-training-ohtani-group-3/
LOCATION:Merchants Academy Sports Centre\, Molesworth Drive\, Bristol\, BS13 9BJ\, United Kingdom
CATEGORIES:Badgers,Bats,Bobcats,Bristol Baseball Club Teams,Brunels,Buccaneers,Pre-Season,Training
END:VEVENT
BEGIN:VEVENT
DTSTART;TZID=Europe/London:20240217T090000
DTEND;TZID=Europe/London:20240217T120000
DTSTAMP:20260423T220037
CREATED:20240202T141011Z
LAST-MODIFIED:20240202T141223Z
UID:6548-1708160400-1708171200@www.bristolbaseball.co.uk
SUMMARY:Indoor Training: Acuna Group
DESCRIPTION:
URL:https://www.bristolbaseball.co.uk/event/indoor-training-acuna-group-2/
LOCATION:Merchants Academy Sports Centre\, Molesworth Drive\, Bristol\, BS13 9BJ\, United Kingdom
CATEGORIES:Badgers,Bats,Bobcats,Bristol Baseball Club Teams,Brunels,Buccaneers,Pre-Season,Training
END:VEVENT
BEGIN:VEVENT
DTSTART;TZID=Europe/London:20240211T090000
DTEND;TZID=Europe/London:20240211T120000
DTSTAMP:20260423T220037
CREATED:20240202T141011Z
LAST-MODIFIED:20240202T141209Z
UID:6547-1707642000-1707652800@www.bristolbaseball.co.uk
SUMMARY:Indoor Training: Ohtani Group
DESCRIPTION:
URL:https://www.bristolbaseball.co.uk/event/indoor-training-ohtani-group-2/
LOCATION:Merchants Academy Sports Centre\, Molesworth Drive\, Bristol\, BS13 9BJ\, United Kingdom
CATEGORIES:Badgers,Bats,Bobcats,Bristol Baseball Club Teams,Brunels,Buccaneers,Pre-Season,Training
END:VEVENT
BEGIN:VEVENT
DTSTART;TZID=Europe/London:20240210T090000
DTEND;TZID=Europe/London:20240210T120000
DTSTAMP:20260423T220037
CREATED:20240202T141010Z
LAST-MODIFIED:20240202T141153Z
UID:6546-1707555600-1707566400@www.bristolbaseball.co.uk
SUMMARY:Indoor Training: Acuna Group
DESCRIPTION:
URL:https://www.bristolbaseball.co.uk/event/indoor-training-acuna-group/
LOCATION:Merchants Academy Sports Centre\, Molesworth Drive\, Bristol\, BS13 9BJ\, United Kingdom
CATEGORIES:Badgers,Bats,Bobcats,Bristol Baseball Club Teams,Brunels,Buccaneers,Pre-Season,Training
END:VEVENT
BEGIN:VEVENT
DTSTART;TZID=Europe/London:20240204T120000
DTEND;TZID=Europe/London:20240204T150000
DTSTAMP:20260423T220037
CREATED:20240202T141010Z
LAST-MODIFIED:20240202T141401Z
UID:6545-1707048000-1707058800@www.bristolbaseball.co.uk
SUMMARY:Indoor Training: Ohtani Group
DESCRIPTION:
URL:https://www.bristolbaseball.co.uk/event/indoor-training-ohtani-group/
LOCATION:Merchants Academy Sports Centre\, Molesworth Drive\, Bristol\, BS13 9BJ\, United Kingdom
CATEGORIES:Badgers,Bats,Bobcats,Bristol Baseball Club Teams,Brunels,Buccaneers,Pre-Season,Training
END:VEVENT
BEGIN:VEVENT
DTSTART;TZID=Europe/London:20240204T090000
DTEND;TZID=Europe/London:20240204T120000
DTSTAMP:20260423T220037
CREATED:20240202T135533Z
LAST-MODIFIED:20240202T135533Z
UID:6538-1707037200-1707048000@www.bristolbaseball.co.uk
SUMMARY:Indoor Training: Ohtani Group
DESCRIPTION:
URL:https://www.bristolbaseball.co.uk/event/indoor-training-ohtani/
LOCATION:Merchants Academy Sports Centre\, Molesworth Drive\, Bristol\, BS13 9BJ\, United Kingdom
CATEGORIES:Badgers,Bats,Bobcats,Bristol Baseball Club Teams,Brunels,Buccaneers,Pre-Season,Training
END:VEVENT
BEGIN:VEVENT
DTSTART;TZID=Europe/London:20240121T130000
DTEND;TZID=Europe/London:20240121T150000
DTSTAMP:20260423T220037
CREATED:20231227T224854Z
LAST-MODIFIED:20231227T225236Z
UID:6221-1705842000-1705849200@www.bristolbaseball.co.uk
SUMMARY:Taster: Wellsway Sports Centre
DESCRIPTION:
URL:https://www.bristolbaseball.co.uk/event/taster-wellsway/
LOCATION:Wellsway Sports Centre\, Wellsway Sports Centre\, Keynsham\, BS31 1PH\, United Kingdom
CATEGORIES:Badgers,Bats,Bobcats,Bristol Baseball Club Teams,Brunels,Buccaneers,Pre-Season,Taster Sessions
ATTACH;FMTTYPE=image/jpeg:https://www.bristolbaseball.co.uk/wp-content/uploads/2023/12/77c97ab1-51a8-49a0-b6dc-479d7bdb44c2.jpg
END:VEVENT
BEGIN:VEVENT
DTSTART;TZID=Europe/London:20230318T130000
DTEND;TZID=Europe/London:20230318T150000
DTSTAMP:20260423T220037
CREATED:20230306T164628Z
LAST-MODIFIED:20230306T165140Z
UID:5921-1679144400-1679151600@www.bristolbaseball.co.uk
SUMMARY:Youth Baseball Taster Session
DESCRIPTION:Following the success of our recent baseball taster sessions\, Bristol Baseball Club are holding more taster sessions this month aimed specifically at female and youth players. \n\n\n\nThe youth taster is on Saturday March 18th at 13:00 and is open to all children under the age of 16\, whether they’ve never played before or have attended previous youth sessions. This session is free and lead by the club’s youth coaches. \n\n\n\nThe session will be held at the club’s ground at Somerdale Pavilion\, Keynsham BS31 2FF. \n\n\n\nAnyone who is interested in attending the taster sessions should email the club at info@bristolbaseball.co.uk for further information\, or register directly here.
URL:https://www.bristolbaseball.co.uk/event/youth-baseball-taster-session/
LOCATION:Somerdale Pavilion\, Trajectus Way\, Keynsham\, BS31 2FW
CATEGORIES:Bristol Baseball Club Teams,Taster Sessions,Youth
ATTACH;FMTTYPE=image/jpeg:https://www.bristolbaseball.co.uk/wp-content/uploads/2023/03/YouthTaster.jpg
END:VEVENT
BEGIN:VEVENT
DTSTART;TZID=Europe/London:20230226T090000
DTEND;TZID=Europe/London:20230226T120000
DTSTAMP:20260423T220037
CREATED:20230117T140104Z
LAST-MODIFIED:20230117T140104Z
UID:5787-1677402000-1677412800@www.bristolbaseball.co.uk
SUMMARY:Pre-Season Training
DESCRIPTION:
URL:https://www.bristolbaseball.co.uk/event/pre-season-training-11/
LOCATION:Merchants Academy\, Molesworth Drive\, Bristol\, BS13 9BJ\, United Kingdom
CATEGORIES:Pre-Season
END:VEVENT
BEGIN:VEVENT
DTSTART;TZID=Europe/London:20230225T110000
DTEND;TZID=Europe/London:20230225T140000
DTSTAMP:20260423T220037
CREATED:20230117T132739Z
LAST-MODIFIED:20230117T132813Z
UID:5763-1677322800-1677333600@www.bristolbaseball.co.uk
SUMMARY:Pre-Season Training
DESCRIPTION:
URL:https://www.bristolbaseball.co.uk/event/pre-season-training-4/
LOCATION:Merchants Academy\, Molesworth Drive\, Bristol\, BS13 9BJ\, United Kingdom
CATEGORIES:Pre-Season,Training
END:VEVENT
END:VCALENDAR