BEGIN:VCALENDAR
VERSION:2.0
PRODID:-//Bristol Baseball Club - ECPv6.15.20//NONSGML v1.0//EN
CALSCALE:GREGORIAN
METHOD:PUBLISH
X-ORIGINAL-URL:https://www.bristolbaseball.co.uk
X-WR-CALDESC:Events for Bristol Baseball Club
REFRESH-INTERVAL;VALUE=DURATION:PT1H
X-Robots-Tag:noindex
X-PUBLISHED-TTL:PT1H
BEGIN:VTIMEZONE
TZID:Europe/London
BEGIN:DAYLIGHT
TZOFFSETFROM:+0000
TZOFFSETTO:+0100
TZNAME:BST
DTSTART:20230326T010000
END:DAYLIGHT
BEGIN:STANDARD
TZOFFSETFROM:+0100
TZOFFSETTO:+0000
TZNAME:GMT
DTSTART:20231029T010000
END:STANDARD
BEGIN:DAYLIGHT
TZOFFSETFROM:+0000
TZOFFSETTO:+0100
TZNAME:BST
DTSTART:20240331T010000
END:DAYLIGHT
BEGIN:STANDARD
TZOFFSETFROM:+0100
TZOFFSETTO:+0000
TZNAME:GMT
DTSTART:20241027T010000
END:STANDARD
BEGIN:DAYLIGHT
TZOFFSETFROM:+0000
TZOFFSETTO:+0100
TZNAME:BST
DTSTART:20250330T010000
END:DAYLIGHT
BEGIN:STANDARD
TZOFFSETFROM:+0100
TZOFFSETTO:+0000
TZNAME:GMT
DTSTART:20251026T010000
END:STANDARD
BEGIN:DAYLIGHT
TZOFFSETFROM:+0000
TZOFFSETTO:+0100
TZNAME:BST
DTSTART:20260329T010000
END:DAYLIGHT
BEGIN:STANDARD
TZOFFSETFROM:+0100
TZOFFSETTO:+0000
TZNAME:GMT
DTSTART:20261025T010000
END:STANDARD
END:VTIMEZONE
BEGIN:VEVENT
DTSTART;VALUE=DATE:20250413
DTEND;VALUE=DATE:20250414
DTSTAMP:20260423T232803
CREATED:20250220T132237Z
LAST-MODIFIED:20250220T145340Z
UID:7250-1744502400-1744588799@www.bristolbaseball.co.uk
SUMMARY:BRISTOL BATS @ Cornish Claycutters
DESCRIPTION:SWWBL – AA
URL:https://www.bristolbaseball.co.uk/event/bristol-bats-cornish-claycutters/
LOCATION:Cutters Field\, Tregye Road\, Truro\, Cornwall\, TR3 6JH\, United Kingdom
CATEGORIES:Bats,BBF,Gameday,SWWBL
END:VEVENT
BEGIN:VEVENT
DTSTART;VALUE=DATE:20250413
DTEND;VALUE=DATE:20250414
DTSTAMP:20260423T232803
CREATED:20250220T132237Z
LAST-MODIFIED:20250220T145341Z
UID:7251-1744502400-1744588799@www.bristolbaseball.co.uk
SUMMARY:Bournemouth Bears A @ BRISTOL BRUNELS
DESCRIPTION:SWWBL A – SEVERN
URL:https://www.bristolbaseball.co.uk/event/bournemouth-bears-a-bristol-brunels/
LOCATION:Somerdale Pavilion\, Trajectus Way\, Keynsham\, BS31 2FW
CATEGORIES:BBF,Brunels,Gameday,SWWBL
END:VEVENT
BEGIN:VEVENT
DTSTART;VALUE=DATE:20250406
DTEND;VALUE=DATE:20250407
DTSTAMP:20260423T232803
CREATED:20250220T132236Z
LAST-MODIFIED:20250220T145339Z
UID:7248-1743897600-1743983999@www.bristolbaseball.co.uk
SUMMARY:BRISTOL BRUNELS @ Weston Jets
DESCRIPTION:SWWBL A – SEVERN
URL:https://www.bristolbaseball.co.uk/event/bristol-brunels-weston-jets-3/
LOCATION:Hutton Moor\, Hutton Moor Road\, Weston-Super-Mare\, Somerset\, BS22 8LY
CATEGORIES:BBF,Brunels,Gameday,SWWBL
END:VEVENT
BEGIN:VEVENT
DTSTART;VALUE=DATE:20250406
DTEND;VALUE=DATE:20250407
DTSTAMP:20260423T232803
CREATED:20250220T132235Z
LAST-MODIFIED:20250220T145339Z
UID:7247-1743897600-1743983999@www.bristolbaseball.co.uk
SUMMARY:Wellington Khaki Sox @ BRISTOL BATS
DESCRIPTION:SWWBL – AA
URL:https://www.bristolbaseball.co.uk/event/wellington-khaki-sox-bristol-bats/
LOCATION:Somerdale Pavilion\, Trajectus Way\, Keynsham\, BS31 2FW
CATEGORIES:Bats,BBF,Gameday,SWWBL
END:VEVENT
BEGIN:VEVENT
DTSTART;VALUE=DATE:20240915
DTEND;VALUE=DATE:20240916
DTSTAMP:20260423T232803
CREATED:20240909T144642Z
LAST-MODIFIED:20240910T085639Z
UID:7079-1726358400-1726444799@www.bristolbaseball.co.uk
SUMMARY:BBF Single A Playoff Qualifier - BRISTOL BUCCANEERS @ Milton Keynes Bucks
DESCRIPTION:The Bristol Buccaneers take on the Milton Keynes Bucks at Grovehill Ballpark\, Hemel Hempstead in the Single A qualifier round. First pitch at 2:30pm. \nThe winners will head to Farnham Park the following weekend to take on the Herts Ravens in the semi final on the Saturday and potentially play in the final on Sunday.
URL:https://www.bristolbaseball.co.uk/event/bbf-single-a-playoff-qualifier-bristol-buccaneers-milton-keynes-bucks/
LOCATION:Grovehill Ballpark\, Washington Avenue\, Hemel Hempstead\, Hertfordshire\, HP2 6LB\, United Kingdom
CATEGORIES:BBF,Buccaneers,Gameday,Tournaments
END:VEVENT
BEGIN:VEVENT
DTSTART;VALUE=DATE:20240914
DTEND;VALUE=DATE:20240916
DTSTAMP:20260423T232803
CREATED:20240909T144119Z
LAST-MODIFIED:20240909T144148Z
UID:7077-1726272000-1726444799@www.bristolbaseball.co.uk
SUMMARY:BBF AAA Championship Series - BRISTOL BADGERS @ Croydon Pirates
DESCRIPTION:The Bristol Badgers take on Croydon Pirates in a 3-game series to crown the 2024 AAA Champions. \nGame 1 is Saturday at 11am.\nGame 2 is Sunday at 11am.\nIf needed\, Game 3 will be Sunday at 2:30pm
URL:https://www.bristolbaseball.co.uk/event/bbf-aaa-championship-series-bristol-badgers-croydon-pirates/
LOCATION:Farnham Park\, Beaconsfield Road\, Farnham Royal\, Slough\, SL2 3BP\, United Kingdom
CATEGORIES:Badgers,BBF,Gameday,Tournaments
END:VEVENT
BEGIN:VEVENT
DTSTART;VALUE=DATE:20240908
DTEND;VALUE=DATE:20240909
DTSTAMP:20260423T232803
CREATED:20240829T211912Z
LAST-MODIFIED:20240829T212008Z
UID:7060-1725753600-1725839999@www.bristolbaseball.co.uk
SUMMARY:BBF Postseason: Double A Quarter Finals ft. BRISTOL BATS
DESCRIPTION:All four Quarter Finals will be held at Grovehill in Hemel Hempstead. The Bristol Bats are involved\, as one of the designated home teams.
URL:https://www.bristolbaseball.co.uk/event/bbf-postseason-double-a-quarter-finals-ft-bristol-bats/
LOCATION:Grovehill Ballpark\, Washington Avenue\, Hemel Hempstead\, Hertfordshire\, HP2 6LB\, United Kingdom
CATEGORIES:Bats,BBF,Gameday
END:VEVENT
BEGIN:VEVENT
DTSTART;VALUE=DATE:20240908
DTEND;VALUE=DATE:20240909
DTSTAMP:20260423T232803
CREATED:20240829T211426Z
LAST-MODIFIED:20240829T212138Z
UID:7055-1725753600-1725839999@www.bristolbaseball.co.uk
SUMMARY:BBF Postseason: Triple A Semi Final - Liverpool Trojans @ BRISTOL BADGERS
DESCRIPTION:
URL:https://www.bristolbaseball.co.uk/event/bbf-postseason-liverpool-trojans-bristol-badgers/
LOCATION:Somerdale Pavilion\, Trajectus Way\, Keynsham\, BS31 2FW
CATEGORIES:Badgers,BBF,Gameday
END:VEVENT
BEGIN:VEVENT
DTSTART;VALUE=DATE:20240907
DTEND;VALUE=DATE:20240908
DTSTAMP:20260423T232803
CREATED:20240829T211805Z
LAST-MODIFIED:20240829T212043Z
UID:7057-1725667200-1725753599@www.bristolbaseball.co.uk
SUMMARY:BBF Postseason: Single A Quarter Final ft. BRISTOL BUCCANEERS
DESCRIPTION:All four Quarter Finals will be held at Grovehill in Hemel Hempstead. The Bristol Buccaneers are involved\, as one of the designated home teams.
URL:https://www.bristolbaseball.co.uk/event/bbf-postseason-single-a-quarter-final-ft-bristol-buccaneers/
LOCATION:Grovehill Ballpark\, Washington Avenue\, Hemel Hempstead\, Hertfordshire\, HP2 6LB\, United Kingdom
CATEGORIES:BBF,Buccaneers,Gameday
END:VEVENT
BEGIN:VEVENT
DTSTART;VALUE=DATE:20240825
DTEND;VALUE=DATE:20240826
DTSTAMP:20260423T232803
CREATED:20240313T005413Z
LAST-MODIFIED:20240313T011530Z
UID:6741-1724544000-1724630399@www.bristolbaseball.co.uk
SUMMARY:SWWBL: Playoff Final & All Star Game
DESCRIPTION:The final of the SWWBL playoffs\, as the semi final winners battle it out to determine the overall SWWBL Champions\, with the winners progressing to the National Baseball Championships. The best players from around the league also gather for the annual All Star Game.
URL:https://www.bristolbaseball.co.uk/event/swwbl-playoff-final-all-star-game-3/
CATEGORIES:BBF,Gameday,SWWBL
END:VEVENT
BEGIN:VEVENT
DTSTART;VALUE=DATE:20240825
DTEND;VALUE=DATE:20240826
DTSTAMP:20260423T232803
CREATED:20240313T004403Z
LAST-MODIFIED:20240820T155309Z
UID:6678-1724544000-1724630399@www.bristolbaseball.co.uk
SUMMARY:Guildford Mavericks @ BRISTOL BATS
DESCRIPTION:
URL:https://www.bristolbaseball.co.uk/event/oxford-kings-bristol-bats-4/
LOCATION:Somerdale Pavilion\, Trajectus Way\, Keynsham\, BS31 2FW
CATEGORIES:BBF,Gameday
END:VEVENT
BEGIN:VEVENT
DTSTART;VALUE=DATE:20240818
DTEND;VALUE=DATE:20240819
DTSTAMP:20260423T232803
CREATED:20240313T005359Z
LAST-MODIFIED:20240313T011521Z
UID:6740-1723939200-1724025599@www.bristolbaseball.co.uk
SUMMARY:SWWBL: Playoff Semi Finals
DESCRIPTION:The semi finals of the SWWBL playoffs\, as the division winners and runners-up compete to progress to the league final. Venue TBC.
URL:https://www.bristolbaseball.co.uk/event/swwbl-playoff-semi-finals-2/
CATEGORIES:BBF,Gameday,SWWBL
END:VEVENT
BEGIN:VEVENT
DTSTART;VALUE=DATE:20240811
DTEND;VALUE=DATE:20240812
DTSTAMP:20260423T232803
CREATED:20240313T005359Z
LAST-MODIFIED:20240313T011520Z
UID:6738-1723334400-1723420799@www.bristolbaseball.co.uk
SUMMARY:BRISTOL BATS @ Bournemouth Bears 2
DESCRIPTION:
URL:https://www.bristolbaseball.co.uk/event/bristol-bats-bournemouth-bears-2-6/
LOCATION:Ferndown Leisure Centre\, Cherry Grove\, Bournemouth\, Dorset\, BH22 9EZ\, United Kingdom
CATEGORIES:BBF,Gameday
END:VEVENT
BEGIN:VEVENT
DTSTART;VALUE=DATE:20240811
DTEND;VALUE=DATE:20240812
DTSTAMP:20260423T232803
CREATED:20240313T005359Z
LAST-MODIFIED:20240313T011520Z
UID:6739-1723334400-1723420799@www.bristolbaseball.co.uk
SUMMARY:BRISTOL BADGERS @ Cardiff Merlins 1
DESCRIPTION:
URL:https://www.bristolbaseball.co.uk/event/bristol-badgers-cardiff-merlins-1-4/
LOCATION:Pontcanna Fields\, Fields Park Road\, Cardiff\, South Glamorgan\, CF5 2AX\, United Kingdom
CATEGORIES:BBF,Gameday
END:VEVENT
BEGIN:VEVENT
DTSTART;VALUE=DATE:20240811
DTEND;VALUE=DATE:20240812
DTSTAMP:20260423T232803
CREATED:20240313T005358Z
LAST-MODIFIED:20240313T011520Z
UID:6737-1723334400-1723420799@www.bristolbaseball.co.uk
SUMMARY:Bracknell Inferno @ BRISTOL BADGERS
DESCRIPTION:
URL:https://www.bristolbaseball.co.uk/event/bracknell-inferno-bristol-badgers-4/
LOCATION:Somerdale Pavilion\, Trajectus Way\, Keynsham\, BS31 2FW
CATEGORIES:BBF,Gameday
END:VEVENT
BEGIN:VEVENT
DTSTART;VALUE=DATE:20240804
DTEND;VALUE=DATE:20240805
DTSTAMP:20260423T232803
CREATED:20240313T005358Z
LAST-MODIFIED:20240313T011520Z
UID:6736-1722729600-1722815999@www.bristolbaseball.co.uk
SUMMARY:Cardiff Merlins 2 @ BRISTOL BRUNELS
DESCRIPTION:
URL:https://www.bristolbaseball.co.uk/event/cardiff-merlins-2-bristol-brunels-2/
LOCATION:Somerdale Pavilion\, Trajectus Way\, Keynsham\, BS31 2FW
CATEGORIES:BBF,Gameday,SWWBL
END:VEVENT
BEGIN:VEVENT
DTSTART;VALUE=DATE:20240804
DTEND;VALUE=DATE:20240805
DTSTAMP:20260423T232803
CREATED:20240313T005344Z
LAST-MODIFIED:20240313T011037Z
UID:6734-1722729600-1722815999@www.bristolbaseball.co.uk
SUMMARY:BRISTOL BATS @ Guildford Mavericks
DESCRIPTION:
URL:https://www.bristolbaseball.co.uk/event/bristol-bats-guildford-mavericks-6/
LOCATION:Kings College Field
CATEGORIES:BBF,Gameday
END:VEVENT
BEGIN:VEVENT
DTSTART;VALUE=DATE:20240804
DTEND;VALUE=DATE:20240805
DTSTAMP:20260423T232803
CREATED:20240313T005344Z
LAST-MODIFIED:20240313T011037Z
UID:6735-1722729600-1722815999@www.bristolbaseball.co.uk
SUMMARY:Weston Jets @ BRISTOL BUCCANEERS
DESCRIPTION:
URL:https://www.bristolbaseball.co.uk/event/weston-jets-bristol-buccaneers-3/
LOCATION:Somerdale Pavilion\, Trajectus Way\, Keynsham\, BS31 2FW
CATEGORIES:BBF,Buccaneers,Gameday,SWWBL
END:VEVENT
BEGIN:VEVENT
DTSTART;VALUE=DATE:20240804
DTEND;VALUE=DATE:20240805
DTSTAMP:20260423T232803
CREATED:20240313T005343Z
LAST-MODIFIED:20240313T011037Z
UID:6733-1722729600-1722815999@www.bristolbaseball.co.uk
SUMMARY:BRISTOL BADGERS @ New Forest Thunder
DESCRIPTION:
URL:https://www.bristolbaseball.co.uk/event/bristol-badgers-new-forest-thunder-4/
LOCATION:Wide Lane\, Wide Lane\, Eastleigh\, Hampshire\, SO50 5PE
CATEGORIES:BBF,Gameday
END:VEVENT
BEGIN:VEVENT
DTSTART;VALUE=DATE:20240728
DTEND;VALUE=DATE:20240729
DTSTAMP:20260423T232803
CREATED:20240313T005343Z
LAST-MODIFIED:20240313T011037Z
UID:6731-1722124800-1722211199@www.bristolbaseball.co.uk
SUMMARY:Bournemouth Bears 3 @ BRISTOL BUCCANEERS
DESCRIPTION:
URL:https://www.bristolbaseball.co.uk/event/bournemouth-bears-3-bristol-buccaneers-2/
LOCATION:Somerdale Pavilion\, Trajectus Way\, Keynsham\, BS31 2FW
CATEGORIES:BBF,Buccaneers,Gameday,SWWBL
END:VEVENT
BEGIN:VEVENT
DTSTART;VALUE=DATE:20240728
DTEND;VALUE=DATE:20240729
DTSTAMP:20260423T232803
CREATED:20240313T005343Z
LAST-MODIFIED:20240313T011037Z
UID:6732-1722124800-1722211199@www.bristolbaseball.co.uk
SUMMARY:BRISTOL BRUNELS @ Cardiff Merlins 2
DESCRIPTION:
URL:https://www.bristolbaseball.co.uk/event/bristol-brunels-cardiff-merlins-2-2/
LOCATION:Pontcanna Fields\, Fields Park Road\, Cardiff\, South Glamorgan\, CF5 2AX\, United Kingdom
CATEGORIES:BBF,Gameday,SWWBL
END:VEVENT
BEGIN:VEVENT
DTSTART;VALUE=DATE:20240728
DTEND;VALUE=DATE:20240729
DTSTAMP:20260423T232803
CREATED:20240313T005329Z
LAST-MODIFIED:20240313T011031Z
UID:6730-1722124800-1722211199@www.bristolbaseball.co.uk
SUMMARY:Cardiff Merlins 1 @ BRISTOL BADGERS
DESCRIPTION:
URL:https://www.bristolbaseball.co.uk/event/cardiff-merlins-1-bristol-badgers-6/
LOCATION:Somerdale Pavilion\, Trajectus Way\, Keynsham\, BS31 2FW
CATEGORIES:BBF,Gameday
END:VEVENT
BEGIN:VEVENT
DTSTART;VALUE=DATE:20240721
DTEND;VALUE=DATE:20240722
DTSTAMP:20260423T232803
CREATED:20240313T005329Z
LAST-MODIFIED:20240313T011031Z
UID:6729-1721520000-1721606399@www.bristolbaseball.co.uk
SUMMARY:BRISTOL BUCCANEERS @ BRISTOL BRUNELS
DESCRIPTION:Part 2 of the 2024 Bristol Derby in Single A!
URL:https://www.bristolbaseball.co.uk/event/bristol-buccaneers-bristol-brunels-2/
LOCATION:Somerdale Pavilion\, Trajectus Way\, Keynsham\, BS31 2FW
CATEGORIES:BBF,Gameday,SWWBL
END:VEVENT
BEGIN:VEVENT
DTSTART;VALUE=DATE:20240721
DTEND;VALUE=DATE:20240722
DTSTAMP:20260423T232803
CREATED:20240313T005328Z
LAST-MODIFIED:20240313T011031Z
UID:6728-1721520000-1721606399@www.bristolbaseball.co.uk
SUMMARY:BRISTOL BATS @ Bournemouth Bears 2
DESCRIPTION:
URL:https://www.bristolbaseball.co.uk/event/bristol-bats-bournemouth-bears-2-5/
LOCATION:Ferndown Leisure Centre\, Cherry Grove\, Bournemouth\, Dorset\, BH22 9EZ\, United Kingdom
CATEGORIES:BBF,Gameday
END:VEVENT
BEGIN:VEVENT
DTSTART;VALUE=DATE:20240721
DTEND;VALUE=DATE:20240722
DTSTAMP:20260423T232803
CREATED:20240313T005328Z
LAST-MODIFIED:20240313T011031Z
UID:6727-1721520000-1721606399@www.bristolbaseball.co.uk
SUMMARY:Cardiff Merlins 1 @ BRISTOL BADGERS
DESCRIPTION:
URL:https://www.bristolbaseball.co.uk/event/cardiff-merlins-1-bristol-badgers-5/
LOCATION:Somerdale Pavilion\, Trajectus Way\, Keynsham\, BS31 2FW
CATEGORIES:BBF,Gameday
END:VEVENT
BEGIN:VEVENT
DTSTART;VALUE=DATE:20240714
DTEND;VALUE=DATE:20240715
DTSTAMP:20260423T232803
CREATED:20240313T005328Z
LAST-MODIFIED:20240313T011031Z
UID:6726-1720915200-1721001599@www.bristolbaseball.co.uk
SUMMARY:BRISTOL BRUNELS @ BRISTOL BUCCANEERS
DESCRIPTION:Part 1 of the 2024 Bristol Derby in Single A!
URL:https://www.bristolbaseball.co.uk/event/bristol-brunels-bristol-buccaneers-3/
LOCATION:Somerdale Pavilion\, Trajectus Way\, Keynsham\, BS31 2FW
CATEGORIES:BBF,Gameday,SWWBL
END:VEVENT
BEGIN:VEVENT
DTSTART;VALUE=DATE:20240714
DTEND;VALUE=DATE:20240715
DTSTAMP:20260423T232803
CREATED:20240313T005314Z
LAST-MODIFIED:20240313T011005Z
UID:6724-1720915200-1721001599@www.bristolbaseball.co.uk
SUMMARY:BRISTOL BADGERS @ New Forest Thunder
DESCRIPTION:
URL:https://www.bristolbaseball.co.uk/event/bristol-badgers-new-forest-thunder-3/
LOCATION:Wide Lane\, Wide Lane\, Eastleigh\, Hampshire\, SO50 5PE
CATEGORIES:BBF,Gameday
END:VEVENT
BEGIN:VEVENT
DTSTART;VALUE=DATE:20240714
DTEND;VALUE=DATE:20240715
DTSTAMP:20260423T232803
CREATED:20240313T005314Z
LAST-MODIFIED:20240313T011005Z
UID:6725-1720915200-1721001599@www.bristolbaseball.co.uk
SUMMARY:BRISTOL BATS @ Oxford Kings
DESCRIPTION:
URL:https://www.bristolbaseball.co.uk/event/bristol-bats-oxford-kings-7/
LOCATION:Horspath Road
CATEGORIES:BBF,Gameday
END:VEVENT
BEGIN:VEVENT
DTSTART;VALUE=DATE:20240707
DTEND;VALUE=DATE:20240708
DTSTAMP:20260423T232803
CREATED:20240313T005313Z
LAST-MODIFIED:20240313T011005Z
UID:6722-1720310400-1720396799@www.bristolbaseball.co.uk
SUMMARY:BRISTOL BUCCANEERS @ Bournemouth Bears 3
DESCRIPTION:
URL:https://www.bristolbaseball.co.uk/event/bristol-buccaneers-bournemouth-bears-3-2/
LOCATION:Ferndown Leisure Centre\, Cherry Grove\, Bournemouth\, Dorset\, BH22 9EZ\, United Kingdom
CATEGORIES:BBF,Buccaneers,Gameday,SWWBL
END:VEVENT
BEGIN:VEVENT
DTSTART;VALUE=DATE:20240707
DTEND;VALUE=DATE:20240708
DTSTAMP:20260423T232803
CREATED:20240313T005313Z
LAST-MODIFIED:20240313T011005Z
UID:6723-1720310400-1720396799@www.bristolbaseball.co.uk
SUMMARY:Taunton Pistols @ BRISTOL BRUNELS
DESCRIPTION:
URL:https://www.bristolbaseball.co.uk/event/taunton-pistols-bristol-brunels-2/
LOCATION:Somerdale Pavilion\, Trajectus Way\, Keynsham\, BS31 2FW
CATEGORIES:BBF,Gameday,SWWBL
END:VEVENT
END:VCALENDAR