BEGIN:VCALENDAR
VERSION:2.0
PRODID:-//Bristol Baseball Club - ECPv6.15.20//NONSGML v1.0//EN
CALSCALE:GREGORIAN
METHOD:PUBLISH
X-WR-CALNAME:Bristol Baseball Club
X-ORIGINAL-URL:https://www.bristolbaseball.co.uk
X-WR-CALDESC:Events for Bristol Baseball Club
REFRESH-INTERVAL;VALUE=DURATION:PT1H
X-Robots-Tag:noindex
X-PUBLISHED-TTL:PT1H
BEGIN:VTIMEZONE
TZID:Europe/London
BEGIN:DAYLIGHT
TZOFFSETFROM:+0000
TZOFFSETTO:+0100
TZNAME:BST
DTSTART:20250330T010000
END:DAYLIGHT
BEGIN:STANDARD
TZOFFSETFROM:+0100
TZOFFSETTO:+0000
TZNAME:GMT
DTSTART:20251026T010000
END:STANDARD
BEGIN:DAYLIGHT
TZOFFSETFROM:+0000
TZOFFSETTO:+0100
TZNAME:BST
DTSTART:20260329T010000
END:DAYLIGHT
BEGIN:STANDARD
TZOFFSETFROM:+0100
TZOFFSETTO:+0000
TZNAME:GMT
DTSTART:20261025T010000
END:STANDARD
BEGIN:DAYLIGHT
TZOFFSETFROM:+0000
TZOFFSETTO:+0100
TZNAME:BST
DTSTART:20270328T010000
END:DAYLIGHT
BEGIN:STANDARD
TZOFFSETFROM:+0100
TZOFFSETTO:+0000
TZNAME:GMT
DTSTART:20271031T010000
END:STANDARD
END:VTIMEZONE
BEGIN:VEVENT
DTSTART;VALUE=DATE:20260426
DTEND;VALUE=DATE:20260427
DTSTAMP:20260423T221118
CREATED:20260324T115750Z
LAST-MODIFIED:20260324T115750Z
UID:7575-1777161600-1777247999@www.bristolbaseball.co.uk
SUMMARY:Cardiff Merlins @ BRISTOL BATS
DESCRIPTION:
URL:https://www.bristolbaseball.co.uk/event/cardiff-merlins-bristol-bats/
LOCATION:Somerdale Pavilion\, Trajectus Way\, Keynsham\, BS31 2FW
CATEGORIES:Bats,BBF,Gameday
END:VEVENT
BEGIN:VEVENT
DTSTART;VALUE=DATE:20260426
DTEND;VALUE=DATE:20260427
DTSTAMP:20260423T221118
CREATED:20260324T115750Z
LAST-MODIFIED:20260324T115750Z
UID:7576-1777161600-1777247999@www.bristolbaseball.co.uk
SUMMARY:Yeovil Whirlwinds @ BRISTOL BRUNELS
DESCRIPTION:
URL:https://www.bristolbaseball.co.uk/event/yeovil-whirlwinds-bristol-brunels-2/
LOCATION:Somerdale Pavilion\, Trajectus Way\, Keynsham\, BS31 2FW
CATEGORIES:BBF,Brunels,Gameday
END:VEVENT
BEGIN:VEVENT
DTSTART;VALUE=DATE:20260426
DTEND;VALUE=DATE:20260427
DTSTAMP:20260423T221118
CREATED:20260324T115750Z
LAST-MODIFIED:20260324T124647Z
UID:7577-1777161600-1777247999@www.bristolbaseball.co.uk
SUMMARY:BRISTOL BUCCS @ Plymouth Outlaws
DESCRIPTION:
URL:https://www.bristolbaseball.co.uk/event/bristol-buccs-plymouth-outlaws/
LOCATION:Plymstock School\, Church Rd\, Plymstock\, Plymouth\, Devon\, PL9 9AZ\, United Kingdom
CATEGORIES:BBF,Buccaneers,Gameday
END:VEVENT
END:VCALENDAR