BEGIN:VCALENDAR
VERSION:2.0
PRODID:-//Bristol Baseball Club - ECPv6.15.20//NONSGML v1.0//EN
CALSCALE:GREGORIAN
METHOD:PUBLISH
X-WR-CALNAME:Bristol Baseball Club
X-ORIGINAL-URL:https://www.bristolbaseball.co.uk
X-WR-CALDESC:Events for Bristol Baseball Club
REFRESH-INTERVAL;VALUE=DURATION:PT1H
X-Robots-Tag:noindex
X-PUBLISHED-TTL:PT1H
BEGIN:VTIMEZONE
TZID:Europe/London
BEGIN:DAYLIGHT
TZOFFSETFROM:+0000
TZOFFSETTO:+0100
TZNAME:BST
DTSTART:20240331T010000
END:DAYLIGHT
BEGIN:STANDARD
TZOFFSETFROM:+0100
TZOFFSETTO:+0000
TZNAME:GMT
DTSTART:20241027T010000
END:STANDARD
BEGIN:DAYLIGHT
TZOFFSETFROM:+0000
TZOFFSETTO:+0100
TZNAME:BST
DTSTART:20250330T010000
END:DAYLIGHT
BEGIN:STANDARD
TZOFFSETFROM:+0100
TZOFFSETTO:+0000
TZNAME:GMT
DTSTART:20251026T010000
END:STANDARD
BEGIN:DAYLIGHT
TZOFFSETFROM:+0000
TZOFFSETTO:+0100
TZNAME:BST
DTSTART:20260329T010000
END:DAYLIGHT
BEGIN:STANDARD
TZOFFSETFROM:+0100
TZOFFSETTO:+0000
TZNAME:GMT
DTSTART:20261025T010000
END:STANDARD
BEGIN:DAYLIGHT
TZOFFSETFROM:+0000
TZOFFSETTO:+0100
TZNAME:BST
DTSTART:20270328T010000
END:DAYLIGHT
BEGIN:STANDARD
TZOFFSETFROM:+0100
TZOFFSETTO:+0000
TZNAME:GMT
DTSTART:20271031T010000
END:STANDARD
END:VTIMEZONE
BEGIN:VEVENT
DTSTART;VALUE=DATE:20260419
DTEND;VALUE=DATE:20260420
DTSTAMP:20260423T215200
CREATED:20260324T115749Z
LAST-MODIFIED:20260324T115749Z
UID:7574-1776556800-1776643199@www.bristolbaseball.co.uk
SUMMARY:BRISTOL BRUNELS @ Yeovil Whirlwinds
DESCRIPTION:
URL:https://www.bristolbaseball.co.uk/event/bristol-brunels-yeovil-whirlwinds-2/
LOCATION:Bradford Abbas Sports Club\, Manor Farm Cottages\, Sherborne\, Dorset\, DT9 6RP\, United Kingdom
CATEGORIES:BBF,Brunels,Gameday
END:VEVENT
BEGIN:VEVENT
DTSTART;VALUE=DATE:20260419
DTEND;VALUE=DATE:20260420
DTSTAMP:20260423T215200
CREATED:20260324T115748Z
LAST-MODIFIED:20260324T115748Z
UID:7573-1776556800-1776643199@www.bristolbaseball.co.uk
SUMMARY:Newton Abbott Brewers @ BRISTOL BUCCS
DESCRIPTION:
URL:https://www.bristolbaseball.co.uk/event/newton-abbott-brewers-bristol-buccs/
LOCATION:Somerdale Pavilion\, Trajectus Way\, Keynsham\, BS31 2FW
CATEGORIES:BBF,Buccaneers,Gameday
END:VEVENT
BEGIN:VEVENT
DTSTART;VALUE=DATE:20260419
DTEND;VALUE=DATE:20260420
DTSTAMP:20260423T215200
CREATED:20260324T115747Z
LAST-MODIFIED:20260324T115747Z
UID:7572-1776556800-1776643199@www.bristolbaseball.co.uk
SUMMARY:Bracknell Inferno @ BRISTOL BADGERS
DESCRIPTION:
URL:https://www.bristolbaseball.co.uk/event/bracknell-inferno-bristol-badgers-7/
LOCATION:Somerdale Pavilion\, Trajectus Way\, Keynsham\, BS31 2FW
CATEGORIES:Badgers,BBF,Gameday
END:VEVENT
BEGIN:VEVENT
DTSTART;VALUE=DATE:20260412
DTEND;VALUE=DATE:20260413
DTSTAMP:20260423T215200
CREATED:20260324T115747Z
LAST-MODIFIED:20260324T115747Z
UID:7570-1775952000-1776038399@www.bristolbaseball.co.uk
SUMMARY:Cardiff Merlins @ BRISTOL BUCCS
DESCRIPTION:
URL:https://www.bristolbaseball.co.uk/event/cardiff-merlins-bristol-buccs/
LOCATION:Somerdale Pavilion\, Trajectus Way\, Keynsham\, BS31 2FW
CATEGORIES:BBF,Buccaneers,Gameday
END:VEVENT
BEGIN:VEVENT
DTSTART;VALUE=DATE:20260412
DTEND;VALUE=DATE:20260413
DTSTAMP:20260423T215200
CREATED:20260324T115747Z
LAST-MODIFIED:20260324T115747Z
UID:7571-1775952000-1776038399@www.bristolbaseball.co.uk
SUMMARY:Taunton Muskets @ BRISTOL BRUNELS
DESCRIPTION:
URL:https://www.bristolbaseball.co.uk/event/taunton-muskets-bristol-brunels-2/
LOCATION:Somerdale Pavilion\, Trajectus Way\, Keynsham\, BS31 2FW
CATEGORIES:BBF,Brunels,Gameday
END:VEVENT
BEGIN:VEVENT
DTSTART;VALUE=DATE:20260412
DTEND;VALUE=DATE:20260413
DTSTAMP:20260423T215200
CREATED:20260324T115746Z
LAST-MODIFIED:20260324T115746Z
UID:7569-1775952000-1776038399@www.bristolbaseball.co.uk
SUMMARY:BRISTOL BATS @ Cardiff Merlins
DESCRIPTION:
URL:https://www.bristolbaseball.co.uk/event/bristol-bats-cardiff-merlins/
LOCATION:Pontcanna Fields\, Fields Park Road\, Cardiff\, South Glamorgan\, CF5 2AX\, United Kingdom
CATEGORIES:Bats,BBF,Gameday
END:VEVENT
BEGIN:VEVENT
DTSTART;VALUE=DATE:20250817
DTEND;VALUE=DATE:20250818
DTSTAMP:20260423T215200
CREATED:20250220T150433Z
LAST-MODIFIED:20250220T150433Z
UID:7333-1755388800-1755475199@www.bristolbaseball.co.uk
SUMMARY:Richmond Roebucks @ BRISTOL BADGERS
DESCRIPTION:BBF AAA
URL:https://www.bristolbaseball.co.uk/event/richmond-roebucks-bristol-badgers-2/
LOCATION:Somerdale Pavilion\, Trajectus Way\, Keynsham\, BS31 2FW
CATEGORIES:Badgers,BBF,Gameday
END:VEVENT
BEGIN:VEVENT
DTSTART;VALUE=DATE:20250810
DTEND;VALUE=DATE:20250811
DTSTAMP:20260423T215200
CREATED:20250220T150432Z
LAST-MODIFIED:20250220T150432Z
UID:7332-1754784000-1754870399@www.bristolbaseball.co.uk
SUMMARY:SWWBL A/AA Final & SWWBL All-Star Game
DESCRIPTION:SWWBL
URL:https://www.bristolbaseball.co.uk/event/swwbl-a-aa-final-swwbl-all-star-game-2/
LOCATION:Somerdale Pavilion\, Trajectus Way\, Keynsham\, BS31 2FW
CATEGORIES:Brunels,Buccaneers,Gameday,SWWBL
END:VEVENT
BEGIN:VEVENT
DTSTART;VALUE=DATE:20250810
DTEND;VALUE=DATE:20250811
DTSTAMP:20260423T215200
CREATED:20250220T132728Z
LAST-MODIFIED:20250220T145223Z
UID:7282-1754784000-1754870399@www.bristolbaseball.co.uk
SUMMARY:SWWBL A/AA Final & SWWBL All-Star Game
DESCRIPTION:SWWBL
URL:https://www.bristolbaseball.co.uk/event/swwbl-a-aa-final-swwbl-all-star-game/
LOCATION:Somerdale Pavilion\, Trajectus Way\, Keynsham\, BS31 2FW
CATEGORIES:Brunels,Buccaneers,Gameday,SWWBL
END:VEVENT
BEGIN:VEVENT
DTSTART;VALUE=DATE:20250803
DTEND;VALUE=DATE:20250804
DTSTAMP:20260423T215200
CREATED:20250220T150232Z
LAST-MODIFIED:20250220T150232Z
UID:7331-1754179200-1754265599@www.bristolbaseball.co.uk
SUMMARY:Bracknell Inferno @ BRISTOL BADGERS
DESCRIPTION:BBF AAA
URL:https://www.bristolbaseball.co.uk/event/bracknell-inferno-bristol-badgers-6/
LOCATION:Somerdale Pavilion\, Trajectus Way\, Keynsham\, BS31 2FW
CATEGORIES:Badgers,BBF,Gameday
END:VEVENT
BEGIN:VEVENT
DTSTART;VALUE=DATE:20250727
DTEND;VALUE=DATE:20250728
DTSTAMP:20260423T215201
CREATED:20250220T132728Z
LAST-MODIFIED:20250220T150232Z
UID:7281-1753574400-1753660799@www.bristolbaseball.co.uk
SUMMARY:Yeovil Whirlwinds @ BRISTOL BUCCANEERS
DESCRIPTION:SWWBL A – SEVERN
URL:https://www.bristolbaseball.co.uk/event/yeovil-whirlwinds-bristol-buccaneers/
LOCATION:Somerdale Pavilion\, Trajectus Way\, Keynsham\, BS31 2FW
CATEGORIES:BBF,Buccaneers,Gameday,SWWBL
END:VEVENT
BEGIN:VEVENT
DTSTART;VALUE=DATE:20250727
DTEND;VALUE=DATE:20250728
DTSTAMP:20260423T215201
CREATED:20250220T132727Z
LAST-MODIFIED:20250220T150231Z
UID:7279-1753574400-1753660799@www.bristolbaseball.co.uk
SUMMARY:BRISTOL BATS @ Cardiff Merlins AA
DESCRIPTION:SWWBL – AA
URL:https://www.bristolbaseball.co.uk/event/bristol-bats-cardiff-merlins-aa/
LOCATION:Pontcanna Fields\, Fields Park Road\, Cardiff\, South Glamorgan\, CF5 2AX\, United Kingdom
CATEGORIES:Bats,BBF,Gameday,SWWBL
END:VEVENT
BEGIN:VEVENT
DTSTART;VALUE=DATE:20250727
DTEND;VALUE=DATE:20250728
DTSTAMP:20260423T215201
CREATED:20250220T132727Z
LAST-MODIFIED:20250220T150232Z
UID:7280-1753574400-1753660799@www.bristolbaseball.co.uk
SUMMARY:New Forest Knights @ BRISTOL BRUNELS
DESCRIPTION:SWWBL A – SEVERN
URL:https://www.bristolbaseball.co.uk/event/new-forest-knights-bristol-brunels-3/
LOCATION:Somerdale Pavilion\, Trajectus Way\, Keynsham\, BS31 2FW
CATEGORIES:BBF,Brunels,Gameday,SWWBL
END:VEVENT
BEGIN:VEVENT
DTSTART;VALUE=DATE:20250720
DTEND;VALUE=DATE:20250721
DTSTAMP:20260423T215201
CREATED:20250220T150031Z
LAST-MODIFIED:20250220T150031Z
UID:7325-1752969600-1753055999@www.bristolbaseball.co.uk
SUMMARY:BRISTOL BADGERS @ Bracknell Inferno
DESCRIPTION:BBF AAA
URL:https://www.bristolbaseball.co.uk/event/bristol-badgers-bracknell-inferno-8/
LOCATION:Westmorland Park\, Westmorland Drive\, Warfield\, Berkshire\, RG42 3QP\, United Kingdom
CATEGORIES:Badgers,BBF,Gameday
END:VEVENT
BEGIN:VEVENT
DTSTART;VALUE=DATE:20250720
DTEND;VALUE=DATE:20250721
DTSTAMP:20260423T215201
CREATED:20250220T132726Z
LAST-MODIFIED:20250220T150231Z
UID:7278-1752969600-1753055999@www.bristolbaseball.co.uk
SUMMARY:Cardiff Merlins A @ BRISTOL BRUNELS
DESCRIPTION:SWWBL A – SEVERN
URL:https://www.bristolbaseball.co.uk/event/cardiff-merlins-a-bristol-brunels/
LOCATION:Somerdale Pavilion\, Trajectus Way\, Keynsham\, BS31 2FW
CATEGORIES:BBF,Brunels,Gameday,SWWBL
END:VEVENT
BEGIN:VEVENT
DTSTART;VALUE=DATE:20250720
DTEND;VALUE=DATE:20250721
DTSTAMP:20260423T215201
CREATED:20250220T132528Z
LAST-MODIFIED:20250220T150032Z
UID:7276-1752969600-1753055999@www.bristolbaseball.co.uk
SUMMARY:Bournemouth Bears AA @ BRISTOL BATS
DESCRIPTION:SWWBL – AA
URL:https://www.bristolbaseball.co.uk/event/bournemouth-bears-aa-bristol-bats/
LOCATION:Somerdale Pavilion\, Trajectus Way\, Keynsham\, BS31 2FW
CATEGORIES:Bats,BBF,Gameday,SWWBL
END:VEVENT
BEGIN:VEVENT
DTSTART;VALUE=DATE:20250713
DTEND;VALUE=DATE:20250714
DTSTAMP:20260423T215201
CREATED:20250220T150030Z
LAST-MODIFIED:20250220T150030Z
UID:7322-1752364800-1752451199@www.bristolbaseball.co.uk
SUMMARY:BRISTOL BADGERS @ Richmond Roebucks
DESCRIPTION:BBF AAA
URL:https://www.bristolbaseball.co.uk/event/bristol-badgers-richmond-roebucks-2/
LOCATION:Connare Field\, Riverside Drive\, Ham\, Greater London\, TW10 7QA\, United Kingdom
CATEGORIES:Badgers,BBF,Gameday
END:VEVENT
BEGIN:VEVENT
DTSTART;VALUE=DATE:20250713
DTEND;VALUE=DATE:20250714
DTSTAMP:20260423T215201
CREATED:20250220T132527Z
LAST-MODIFIED:20250220T150031Z
UID:7275-1752364800-1752451199@www.bristolbaseball.co.uk
SUMMARY:BRISTOL BUCCANEERS @ Cardiff Merlins A
DESCRIPTION:SWWBL A – SEVERN
URL:https://www.bristolbaseball.co.uk/event/bristol-buccaneers-cardiff-merlins-a/
LOCATION:Pontcanna Fields\, Fields Park Road\, Cardiff\, South Glamorgan\, CF5 2AX\, United Kingdom
CATEGORIES:BBF,Buccaneers,Gameday,SWWBL
END:VEVENT
BEGIN:VEVENT
DTSTART;VALUE=DATE:20250713
DTEND;VALUE=DATE:20250714
DTSTAMP:20260423T215201
CREATED:20250220T132526Z
LAST-MODIFIED:20250707T223842Z
UID:7274-1752364800-1752451199@www.bristolbaseball.co.uk
SUMMARY:BRISTOL BATS @ Wellington Khaki Sox
DESCRIPTION:SWWBL – AA
URL:https://www.bristolbaseball.co.uk/event/bristol-bats-wellington-khaki-sox/
LOCATION:Wellington Rugby Club\, Corams Lane\, Wellington\, Somerset\, TA21 8LL\, United Kingdom
CATEGORIES:Bats,BBF,Gameday,SWWBL
END:VEVENT
BEGIN:VEVENT
DTSTART;VALUE=DATE:20250706
DTEND;VALUE=DATE:20250707
DTSTAMP:20260423T215201
CREATED:20250220T145830Z
LAST-MODIFIED:20250220T145830Z
UID:7318-1751760000-1751846399@www.bristolbaseball.co.uk
SUMMARY:BRISTOL BADGERS @ Richmond Roebucks
DESCRIPTION:BBF AAA
URL:https://www.bristolbaseball.co.uk/event/bristol-badgers-richmond-roebucks/
LOCATION:Connare Field\, Riverside Drive\, Ham\, Greater London\, TW10 7QA\, United Kingdom
CATEGORIES:Badgers,BBF,Gameday
END:VEVENT
BEGIN:VEVENT
DTSTART;VALUE=DATE:20250706
DTEND;VALUE=DATE:20250707
DTSTAMP:20260423T215201
CREATED:20250220T132526Z
LAST-MODIFIED:20250220T145830Z
UID:7273-1751760000-1751846399@www.bristolbaseball.co.uk
SUMMARY:BRISTOL BUCCANEERS @ Yeovil Whirlwinds
DESCRIPTION:SWWBL A – SEVERN
URL:https://www.bristolbaseball.co.uk/event/bristol-buccaneers-yeovil-whirlwinds/
LOCATION:Bradford Abbas Sports Club\, Manor Farm Cottages\, Sherborne\, Dorset\, DT9 6RP\, United Kingdom
CATEGORIES:BBF,Buccaneers,Gameday,SWWBL
END:VEVENT
BEGIN:VEVENT
DTSTART;VALUE=DATE:20250706
DTEND;VALUE=DATE:20250707
DTSTAMP:20260423T215201
CREATED:20250220T132525Z
LAST-MODIFIED:20250220T145830Z
UID:7272-1751760000-1751846399@www.bristolbaseball.co.uk
SUMMARY:BRISTOL BRUNELS @ Bournemouth Bears A
DESCRIPTION:SWWBL A – SEVERN
URL:https://www.bristolbaseball.co.uk/event/bristol-brunels-bournemouth-bears-a/
LOCATION:Ferndown Leisure Centre\, Cherry Grove\, Bournemouth\, Dorset\, BH22 9EZ\, United Kingdom
CATEGORIES:BBF,Brunels,Gameday,SWWBL
END:VEVENT
BEGIN:VEVENT
DTSTART;VALUE=DATE:20250706
DTEND;VALUE=DATE:20250707
DTSTAMP:20260423T215201
CREATED:20250220T132326Z
LAST-MODIFIED:20250220T145830Z
UID:7271-1751760000-1751846399@www.bristolbaseball.co.uk
SUMMARY:Cardiff Merlins AA @ BRISTOL BATS
DESCRIPTION:SWWBL – AA
URL:https://www.bristolbaseball.co.uk/event/cardiff-merlins-aa-bristol-bats/
LOCATION:Somerdale Pavilion\, Trajectus Way\, Keynsham\, BS31 2FW
CATEGORIES:Bats,BBF,Gameday,SWWBL
END:VEVENT
BEGIN:VEVENT
DTSTART;VALUE=DATE:20250629
DTEND;VALUE=DATE:20250630
DTSTAMP:20260423T215201
CREATED:20250220T145629Z
LAST-MODIFIED:20250220T145629Z
UID:7314-1751155200-1751241599@www.bristolbaseball.co.uk
SUMMARY:Bracknell Inferno @ BRISTOL BADGERS
DESCRIPTION:BBF AAA
URL:https://www.bristolbaseball.co.uk/event/bracknell-inferno-bristol-badgers-5/
LOCATION:Somerdale Pavilion\, Trajectus Way\, Keynsham\, BS31 2FW
CATEGORIES:Badgers,BBF,Gameday
END:VEVENT
BEGIN:VEVENT
DTSTART;VALUE=DATE:20250629
DTEND;VALUE=DATE:20250630
DTSTAMP:20260423T215201
CREATED:20250220T132326Z
LAST-MODIFIED:20250220T145829Z
UID:7270-1751155200-1751241599@www.bristolbaseball.co.uk
SUMMARY:Yeovil Whirlwinds @ BRISTOL BRUNELS
DESCRIPTION:SWWBL A – SEVERN
URL:https://www.bristolbaseball.co.uk/event/yeovil-whirlwinds-bristol-brunels/
LOCATION:Somerdale Pavilion\, Trajectus Way\, Keynsham\, BS31 2FW
CATEGORIES:BBF,Brunels,Gameday,SWWBL
END:VEVENT
BEGIN:VEVENT
DTSTART;VALUE=DATE:20250629
DTEND;VALUE=DATE:20250630
DTSTAMP:20260423T215201
CREATED:20250220T132325Z
LAST-MODIFIED:20250220T145629Z
UID:7268-1751155200-1751241599@www.bristolbaseball.co.uk
SUMMARY:BRISTOL BATS @ Bournemouth Bears AA
DESCRIPTION:SWWBL – AA
URL:https://www.bristolbaseball.co.uk/event/bristol-bats-bournemouth-bears-aa/
LOCATION:Ferndown Leisure Centre\, Cherry Grove\, Bournemouth\, Dorset\, BH22 9EZ\, United Kingdom
CATEGORIES:Bats,BBF,Gameday,SWWBL
END:VEVENT
BEGIN:VEVENT
DTSTART;VALUE=DATE:20250629
DTEND;VALUE=DATE:20250630
DTSTAMP:20260423T215201
CREATED:20250220T132325Z
LAST-MODIFIED:20250220T145630Z
UID:7269-1751155200-1751241599@www.bristolbaseball.co.uk
SUMMARY:BRISTOL BUCCANEERS @ New Forest Knights
DESCRIPTION:SWWBL A – SEVERN
URL:https://www.bristolbaseball.co.uk/event/bristol-buccaneers-new-forest-knights-3/
CATEGORIES:BBF,Buccaneers,Gameday,SWWBL
END:VEVENT
BEGIN:VEVENT
DTSTART;VALUE=DATE:20250622
DTEND;VALUE=DATE:20250623
DTSTAMP:20260423T215201
CREATED:20250220T132324Z
LAST-MODIFIED:20250220T145629Z
UID:7267-1750550400-1750636799@www.bristolbaseball.co.uk
SUMMARY:BRISTOL BUCCANEERS @ BRISTOL BRUNELS
DESCRIPTION:SWWBL A – SEVERN
URL:https://www.bristolbaseball.co.uk/event/bristol-buccaneers-bristol-brunels-3/
LOCATION:Somerdale Pavilion\, Trajectus Way\, Keynsham\, BS31 2FW
CATEGORIES:BBF,Brunels,Buccaneers,Gameday,SWWBL
END:VEVENT
BEGIN:VEVENT
DTSTART;VALUE=DATE:20250622
DTEND;VALUE=DATE:20250623
DTSTAMP:20260423T215201
CREATED:20250220T132312Z
LAST-MODIFIED:20250220T145629Z
UID:7266-1750550400-1750636799@www.bristolbaseball.co.uk
SUMMARY:New Forest Thunder @ BRISTOL BATS
DESCRIPTION:SWWBL – AA
URL:https://www.bristolbaseball.co.uk/event/new-forest-thunder-bristol-bats/
LOCATION:Somerdale Pavilion\, Trajectus Way\, Keynsham\, BS31 2FW
CATEGORIES:Bats,BBF,Gameday,SWWBL
END:VEVENT
BEGIN:VEVENT
DTSTART;VALUE=DATE:20250615
DTEND;VALUE=DATE:20250616
DTSTAMP:20260423T215201
CREATED:20250220T145428Z
LAST-MODIFIED:20250220T145428Z
UID:7311-1749945600-1750031999@www.bristolbaseball.co.uk
SUMMARY:Richmond Roebucks @ BRISTOL BADGERS
DESCRIPTION:BBF AAA
URL:https://www.bristolbaseball.co.uk/event/richmond-roebucks-bristol-badgers/
LOCATION:Somerdale Pavilion\, Trajectus Way\, Keynsham\, BS31 2FW
CATEGORIES:Badgers,BBF,Gameday
END:VEVENT
END:VCALENDAR