BEGIN:VCALENDAR
VERSION:2.0
PRODID:-//Bristol Baseball Club - ECPv6.15.20//NONSGML v1.0//EN
CALSCALE:GREGORIAN
METHOD:PUBLISH
X-ORIGINAL-URL:https://www.bristolbaseball.co.uk
X-WR-CALDESC:Events for Bristol Baseball Club
REFRESH-INTERVAL;VALUE=DURATION:PT1H
X-Robots-Tag:noindex
X-PUBLISHED-TTL:PT1H
BEGIN:VTIMEZONE
TZID:Europe/London
BEGIN:DAYLIGHT
TZOFFSETFROM:+0000
TZOFFSETTO:+0100
TZNAME:BST
DTSTART:20220327T010000
END:DAYLIGHT
BEGIN:STANDARD
TZOFFSETFROM:+0100
TZOFFSETTO:+0000
TZNAME:GMT
DTSTART:20221030T010000
END:STANDARD
BEGIN:DAYLIGHT
TZOFFSETFROM:+0000
TZOFFSETTO:+0100
TZNAME:BST
DTSTART:20230326T010000
END:DAYLIGHT
BEGIN:STANDARD
TZOFFSETFROM:+0100
TZOFFSETTO:+0000
TZNAME:GMT
DTSTART:20231029T010000
END:STANDARD
BEGIN:DAYLIGHT
TZOFFSETFROM:+0000
TZOFFSETTO:+0100
TZNAME:BST
DTSTART:20240331T010000
END:DAYLIGHT
BEGIN:STANDARD
TZOFFSETFROM:+0100
TZOFFSETTO:+0000
TZNAME:GMT
DTSTART:20241027T010000
END:STANDARD
END:VTIMEZONE
BEGIN:VEVENT
DTSTART;VALUE=DATE:20230611
DTEND;VALUE=DATE:20230612
DTSTAMP:20260424T024155
CREATED:20230427T220838Z
LAST-MODIFIED:20230427T222204Z
UID:6038-1686441600-1686527999@www.bristolbaseball.co.uk
SUMMARY:BRISTOL BRUNELS @ BRISTOL BUCCANEERS
DESCRIPTION:
URL:https://www.bristolbaseball.co.uk/event/bristol-brunels-bristol-buccaneers/
LOCATION:Somerdale Pavilion\, Trajectus Way\, Keynsham\, BS31 2FW
CATEGORIES:Brunels,Buccaneers,Gameday,SWWBL
END:VEVENT
BEGIN:VEVENT
DTSTART;VALUE=DATE:20230604
DTEND;VALUE=DATE:20230605
DTSTAMP:20260424T024155
CREATED:20230427T220838Z
LAST-MODIFIED:20230427T222214Z
UID:6037-1685836800-1685923199@www.bristolbaseball.co.uk
SUMMARY:New Forest Thunder Knights @ BRISTOL BRUNELS
DESCRIPTION:
URL:https://www.bristolbaseball.co.uk/event/new-forest-thunder-knights-bristol-brunels/
LOCATION:Somerdale Pavilion\, Trajectus Way\, Keynsham\, BS31 2FW
CATEGORIES:Brunels,Gameday,SWWBL
END:VEVENT
BEGIN:VEVENT
DTSTART;VALUE=DATE:20230604
DTEND;VALUE=DATE:20230605
DTSTAMP:20260424T024155
CREATED:20230427T220823Z
LAST-MODIFIED:20230427T222229Z
UID:6031-1685836800-1685923199@www.bristolbaseball.co.uk
SUMMARY:BRISTOL BUCCANEERS @ Cornish Claycutters
DESCRIPTION:
URL:https://www.bristolbaseball.co.uk/event/bristol-buccaneers-cornish-claycutters/
LOCATION:Cutters Field\, Tregye Road\, Truro\, Cornwall\, TR3 6JH\, United Kingdom
CATEGORIES:Buccaneers,Gameday,SWWBL
END:VEVENT
BEGIN:VEVENT
DTSTART;VALUE=DATE:20230603
DTEND;VALUE=DATE:20230604
DTSTAMP:20260424T024155
CREATED:20230530T155346Z
LAST-MODIFIED:20230530T155818Z
UID:6098-1685750400-1685836799@www.bristolbaseball.co.uk
SUMMARY:WBL Triple Header #2 - Somerdale Pavilion
DESCRIPTION:Three games\, featuring the Bristol Bobcats\, Belles Baseball and London Mayhem.
URL:https://www.bristolbaseball.co.uk/event/wbl-triple-header-2-somerdale-pavilion/
LOCATION:Somerdale Pavilion\, Trajectus Way\, Keynsham\, BS31 2FW
CATEGORIES:Bobcats,WBL
END:VEVENT
BEGIN:VEVENT
DTSTART;VALUE=DATE:20230528
DTEND;VALUE=DATE:20230529
DTSTAMP:20260424T024155
CREATED:20230427T220823Z
LAST-MODIFIED:20230427T222241Z
UID:6029-1685232000-1685318399@www.bristolbaseball.co.uk
SUMMARY:Cornish Claycutters @ BRISTOL BUCCANEERS
DESCRIPTION:
URL:https://www.bristolbaseball.co.uk/event/cornish-claycutters-bristol-buccaneers/
LOCATION:Somerdale Pavilion\, Trajectus Way\, Keynsham\, BS31 2FW
CATEGORIES:Buccaneers,Gameday,SWWBL
END:VEVENT
BEGIN:VEVENT
DTSTART;VALUE=DATE:20230528
DTEND;VALUE=DATE:20230529
DTSTAMP:20260424T024155
CREATED:20230427T220823Z
LAST-MODIFIED:20230427T222253Z
UID:6030-1685232000-1685318399@www.bristolbaseball.co.uk
SUMMARY:Cardiff Merlins I @ BRISTOL BRUNELS
DESCRIPTION:
URL:https://www.bristolbaseball.co.uk/event/cardiff-merlins-i-bristol-brunels/
LOCATION:Somerdale Pavilion\, Trajectus Way\, Keynsham\, BS31 2FW
CATEGORIES:Brunels,Gameday,SWWBL
END:VEVENT
BEGIN:VEVENT
DTSTART;VALUE=DATE:20230514
DTEND;VALUE=DATE:20230515
DTSTAMP:20260424T024155
CREATED:20230427T220823Z
LAST-MODIFIED:20230427T222302Z
UID:6028-1684022400-1684108799@www.bristolbaseball.co.uk
SUMMARY:BRISTOL BRUNELS @ Cardiff Merlins II
DESCRIPTION:
URL:https://www.bristolbaseball.co.uk/event/bristol-brunels-cardiff-merlins-ii/
LOCATION:Pontcanna Fields\, Fields Park Road\, Cardiff\, South Glamorgan\, CF5 2AX\, United Kingdom
CATEGORIES:Brunels,Gameday,SWWBL
END:VEVENT
BEGIN:VEVENT
DTSTART;VALUE=DATE:20230514
DTEND;VALUE=DATE:20230515
DTSTAMP:20260424T024155
CREATED:20230427T220822Z
LAST-MODIFIED:20230427T222314Z
UID:6027-1684022400-1684108799@www.bristolbaseball.co.uk
SUMMARY:BRISTOL BUCCANEERS @ Weston Jets
DESCRIPTION:
URL:https://www.bristolbaseball.co.uk/event/bristol-buccaneers-weston-jets/
LOCATION:Hutton Moor\, Hutton Moor Road\, Weston-Super-Mare\, Somerset\, BS22 8LY
CATEGORIES:Buccaneers,Gameday,SWWBL
END:VEVENT
BEGIN:VEVENT
DTSTART;VALUE=DATE:20230507
DTEND;VALUE=DATE:20230508
DTSTAMP:20260424T024155
CREATED:20230427T220821Z
LAST-MODIFIED:20230427T222326Z
UID:6026-1683417600-1683503999@www.bristolbaseball.co.uk
SUMMARY:Weston Jets @ BRISTOL BRUNELS
DESCRIPTION:
URL:https://www.bristolbaseball.co.uk/event/weston-jets-bristol-brunels/
LOCATION:Somerdale Pavilion\, Trajectus Way\, Keynsham\, BS31 2FW
CATEGORIES:Brunels,Gameday,SWWBL
END:VEVENT
BEGIN:VEVENT
DTSTART;VALUE=DATE:20230507
DTEND;VALUE=DATE:20230508
DTSTAMP:20260424T024155
CREATED:20230427T220820Z
LAST-MODIFIED:20230427T222340Z
UID:6025-1683417600-1683503999@www.bristolbaseball.co.uk
SUMMARY:BRISTOL BUCCANEERS @ Taunton Muskets
DESCRIPTION:
URL:https://www.bristolbaseball.co.uk/event/bristol-buccaneers-taunton-muskets/
CATEGORIES:Buccaneers,Gameday,SWWBL
END:VEVENT
BEGIN:VEVENT
DTSTART;VALUE=DATE:20230430
DTEND;VALUE=DATE:20230501
DTSTAMP:20260424T024155
CREATED:20230426T210248Z
LAST-MODIFIED:20230426T210405Z
UID:6015-1682812800-1682899199@www.bristolbaseball.co.uk
SUMMARY:SWWBL: Rookie Tournament
DESCRIPTION:  \nSWWBL Rookie Tournament in Truro\, Cornwall (home of the Cornish Claycutters). \nInfield positions must be played by rookie players (players with one full season or less experience). \nOutfield positions can be played by veteran players. \nPitcher and Catcher can be played by veteran players as long as they have not played those specific positions in a competitive game before. \nThis will be a chilled\, relaxed atmosphere\, with the aim to gain experience and work on fundamentals or learn a new position in a fun environment.
URL:https://www.bristolbaseball.co.uk/event/swwbl-rookie-tournament-2/
LOCATION:Cutters Field\, Tregye Road\, Truro\, Cornwall\, TR3 6JH\, United Kingdom
CATEGORIES:Brunels,Buccaneers,SWWBL,Tournaments
END:VEVENT
BEGIN:VEVENT
DTSTART;VALUE=DATE:20230423
DTEND;VALUE=DATE:20230424
DTSTAMP:20260424T024155
CREATED:20230427T220820Z
LAST-MODIFIED:20230427T222357Z
UID:6024-1682208000-1682294399@www.bristolbaseball.co.uk
SUMMARY:Cardiff Merlins II @ BRISTOL BRUNELS
DESCRIPTION:
URL:https://www.bristolbaseball.co.uk/event/cardiff-merlins-ii-bristol-brunels/
LOCATION:Somerdale Pavilion\, Trajectus Way\, Keynsham\, BS31 2FW
CATEGORIES:Brunels,Gameday,SWWBL
END:VEVENT
BEGIN:VEVENT
DTSTART;VALUE=DATE:20230416
DTEND;VALUE=DATE:20230417
DTSTAMP:20260424T024155
CREATED:20230427T220820Z
LAST-MODIFIED:20230427T222408Z
UID:6023-1681603200-1681689599@www.bristolbaseball.co.uk
SUMMARY:BRISTOL BRUNELS @ Bournemouth Bears
DESCRIPTION:
URL:https://www.bristolbaseball.co.uk/event/bristol-brunels-bournemouth-bears/
LOCATION:Ferndown Leisure Centre\, Cherry Grove\, Bournemouth\, Dorset\, BH22 9EZ\, United Kingdom
CATEGORIES:Brunels,Gameday,SWWBL
END:VEVENT
BEGIN:VEVENT
DTSTART;VALUE=DATE:20230416
DTEND;VALUE=DATE:20230417
DTSTAMP:20260424T024155
CREATED:20230427T220819Z
LAST-MODIFIED:20230427T222425Z
UID:6022-1681603200-1681689599@www.bristolbaseball.co.uk
SUMMARY:PPD: New Forest Thunder Knights @ BRISTOL BUCCANEERS
DESCRIPTION:
URL:https://www.bristolbaseball.co.uk/event/ppd-new-forest-thunder-knights-bristol-buccaneers/
LOCATION:Somerdale Pavilion\, Trajectus Way\, Keynsham\, BS31 2FW
CATEGORIES:Buccaneers,Gameday,SWWBL
END:VEVENT
BEGIN:VEVENT
DTSTART;TZID=Europe/London:20230325T100000
DTEND;TZID=Europe/London:20230325T120000
DTSTAMP:20260424T024155
CREATED:20230306T164300Z
LAST-MODIFIED:20230306T164941Z
UID:5916-1679738400-1679745600@www.bristolbaseball.co.uk
SUMMARY:Women's Baseball Taster Session
DESCRIPTION:Following the success of our recent baseball taster sessions\, Bristol Baseball Club are holding more taster sessions this month aimed specifically at female and youth players.\n\nThe women’s session on Saturday March 25th at 10:00 is open to any female players\, whether you’re interested in trying out a new sport\, returning to the game after a break\, or even just coming along out of curiosity. The session will be lead by the club’s coaches and is suitable for all women aged 16 and over. There is a charge of £5 for this session.\n\n\n\nThe session will be held at the club’s ground at Somerdale Pavilion\, Keynsham BS31 2FF.\n\n \n\nAnyone who is interested in attending the taster sessions should email the club at info@bristolbaseball.co.uk for further information\, or register directly here.
URL:https://www.bristolbaseball.co.uk/event/womens-baseball-taster-session/
LOCATION:Somerdale Pavilion\, Trajectus Way\, Keynsham\, BS31 2FW
CATEGORIES:Bobcats,Bristol Baseball Club Teams,Taster Sessions
ATTACH;FMTTYPE=image/jpeg:https://www.bristolbaseball.co.uk/wp-content/uploads/2023/03/WomensTaster.jpg
END:VEVENT
BEGIN:VEVENT
DTSTART;TZID=Europe/London:20230318T130000
DTEND;TZID=Europe/London:20230318T150000
DTSTAMP:20260424T024155
CREATED:20230306T164628Z
LAST-MODIFIED:20230306T165140Z
UID:5921-1679144400-1679151600@www.bristolbaseball.co.uk
SUMMARY:Youth Baseball Taster Session
DESCRIPTION:Following the success of our recent baseball taster sessions\, Bristol Baseball Club are holding more taster sessions this month aimed specifically at female and youth players. \n\n\n\nThe youth taster is on Saturday March 18th at 13:00 and is open to all children under the age of 16\, whether they’ve never played before or have attended previous youth sessions. This session is free and lead by the club’s youth coaches. \n\n\n\nThe session will be held at the club’s ground at Somerdale Pavilion\, Keynsham BS31 2FF. \n\n\n\nAnyone who is interested in attending the taster sessions should email the club at info@bristolbaseball.co.uk for further information\, or register directly here.
URL:https://www.bristolbaseball.co.uk/event/youth-baseball-taster-session/
LOCATION:Somerdale Pavilion\, Trajectus Way\, Keynsham\, BS31 2FW
CATEGORIES:Bristol Baseball Club Teams,Taster Sessions,Youth
ATTACH;FMTTYPE=image/jpeg:https://www.bristolbaseball.co.uk/wp-content/uploads/2023/03/YouthTaster.jpg
END:VEVENT
END:VCALENDAR