BEGIN:VCALENDAR
VERSION:2.0
PRODID:-//Bristol Baseball Club - ECPv6.15.20//NONSGML v1.0//EN
CALSCALE:GREGORIAN
METHOD:PUBLISH
X-WR-CALNAME:Bristol Baseball Club
X-ORIGINAL-URL:https://www.bristolbaseball.co.uk
X-WR-CALDESC:Events for Bristol Baseball Club
REFRESH-INTERVAL;VALUE=DURATION:PT1H
X-Robots-Tag:noindex
X-PUBLISHED-TTL:PT1H
BEGIN:VTIMEZONE
TZID:Europe/London
BEGIN:DAYLIGHT
TZOFFSETFROM:+0000
TZOFFSETTO:+0100
TZNAME:BST
DTSTART:20230326T010000
END:DAYLIGHT
BEGIN:STANDARD
TZOFFSETFROM:+0100
TZOFFSETTO:+0000
TZNAME:GMT
DTSTART:20231029T010000
END:STANDARD
BEGIN:DAYLIGHT
TZOFFSETFROM:+0000
TZOFFSETTO:+0100
TZNAME:BST
DTSTART:20240331T010000
END:DAYLIGHT
BEGIN:STANDARD
TZOFFSETFROM:+0100
TZOFFSETTO:+0000
TZNAME:GMT
DTSTART:20241027T010000
END:STANDARD
BEGIN:DAYLIGHT
TZOFFSETFROM:+0000
TZOFFSETTO:+0100
TZNAME:BST
DTSTART:20250330T010000
END:DAYLIGHT
BEGIN:STANDARD
TZOFFSETFROM:+0100
TZOFFSETTO:+0000
TZNAME:GMT
DTSTART:20251026T010000
END:STANDARD
BEGIN:DAYLIGHT
TZOFFSETFROM:+0000
TZOFFSETTO:+0100
TZNAME:BST
DTSTART:20260329T010000
END:DAYLIGHT
BEGIN:STANDARD
TZOFFSETFROM:+0100
TZOFFSETTO:+0000
TZNAME:GMT
DTSTART:20261025T010000
END:STANDARD
END:VTIMEZONE
BEGIN:VEVENT
DTSTART;VALUE=DATE:20250413
DTEND;VALUE=DATE:20250414
DTSTAMP:20260424T013238
CREATED:20250220T132237Z
LAST-MODIFIED:20250220T145340Z
UID:7250-1744502400-1744588799@www.bristolbaseball.co.uk
SUMMARY:BRISTOL BATS @ Cornish Claycutters
DESCRIPTION:SWWBL – AA
URL:https://www.bristolbaseball.co.uk/event/bristol-bats-cornish-claycutters/
LOCATION:Cutters Field\, Tregye Road\, Truro\, Cornwall\, TR3 6JH\, United Kingdom
CATEGORIES:Bats,BBF,Gameday,SWWBL
END:VEVENT
BEGIN:VEVENT
DTSTART;VALUE=DATE:20250413
DTEND;VALUE=DATE:20250414
DTSTAMP:20260424T013238
CREATED:20250220T132237Z
LAST-MODIFIED:20250220T145341Z
UID:7251-1744502400-1744588799@www.bristolbaseball.co.uk
SUMMARY:Bournemouth Bears A @ BRISTOL BRUNELS
DESCRIPTION:SWWBL A – SEVERN
URL:https://www.bristolbaseball.co.uk/event/bournemouth-bears-a-bristol-brunels/
LOCATION:Somerdale Pavilion\, Trajectus Way\, Keynsham\, BS31 2FW
CATEGORIES:BBF,Brunels,Gameday,SWWBL
END:VEVENT
BEGIN:VEVENT
DTSTART;VALUE=DATE:20250406
DTEND;VALUE=DATE:20250407
DTSTAMP:20260424T013238
CREATED:20250220T132236Z
LAST-MODIFIED:20250220T145339Z
UID:7248-1743897600-1743983999@www.bristolbaseball.co.uk
SUMMARY:BRISTOL BRUNELS @ Weston Jets
DESCRIPTION:SWWBL A – SEVERN
URL:https://www.bristolbaseball.co.uk/event/bristol-brunels-weston-jets-3/
LOCATION:Hutton Moor\, Hutton Moor Road\, Weston-Super-Mare\, Somerset\, BS22 8LY
CATEGORIES:BBF,Brunels,Gameday,SWWBL
END:VEVENT
BEGIN:VEVENT
DTSTART;VALUE=DATE:20250406
DTEND;VALUE=DATE:20250407
DTSTAMP:20260424T013238
CREATED:20250220T132235Z
LAST-MODIFIED:20250220T145339Z
UID:7247-1743897600-1743983999@www.bristolbaseball.co.uk
SUMMARY:Wellington Khaki Sox @ BRISTOL BATS
DESCRIPTION:SWWBL – AA
URL:https://www.bristolbaseball.co.uk/event/wellington-khaki-sox-bristol-bats/
LOCATION:Somerdale Pavilion\, Trajectus Way\, Keynsham\, BS31 2FW
CATEGORIES:Bats,BBF,Gameday,SWWBL
END:VEVENT
BEGIN:VEVENT
DTSTART;VALUE=DATE:20250330
DTEND;VALUE=DATE:20250331
DTSTAMP:20260424T013238
CREATED:20250316T173608Z
LAST-MODIFIED:20250316T173609Z
UID:7343-1743292800-1743379199@www.bristolbaseball.co.uk
SUMMARY:Showdown by the Severn 2025
DESCRIPTION:Join us for a day of baseball action as we prepare for the 2025 season. Teams from Bristol Baseball Club\, New Forest Baseball Club\, Yeovil Whirlwinds and Bournemouth Bears will meet at Somerdale Pavilion for a total of eight games of baseball across two diamonds. Games start at 11am\, 1pm and 3pm.
URL:https://www.bristolbaseball.co.uk/event/showdown-by-the-severn-2025/
LOCATION:Somerdale Pavilion\, Trajectus Way\, Keynsham\, BS31 2FW
CATEGORIES:Bats,BBF,Brunels,Buccaneers,Pre-Season,SWWBL,Tournaments
END:VEVENT
BEGIN:VEVENT
DTSTART;VALUE=DATE:20241005
DTEND;VALUE=DATE:20241007
DTSTAMP:20260424T013238
CREATED:20240927T205943Z
LAST-MODIFIED:20240927T205943Z
UID:7105-1728086400-1728259199@www.bristolbaseball.co.uk
SUMMARY:SWWBL Women's Tournament
DESCRIPTION:Three teams of women from across British Baseball\, joined by a guest team from France\, will descend upon Somerdale for a weekend of baseball as we draw the season to a close with a women’s baseball tournament.
URL:https://www.bristolbaseball.co.uk/event/swwbl-womens-tournament/
LOCATION:Somerdale Pavilion\, Trajectus Way\, Keynsham\, BS31 2FW
CATEGORIES:Bobcats,SWWBL,Tournaments
END:VEVENT
BEGIN:VEVENT
DTSTART;VALUE=DATE:20240915
DTEND;VALUE=DATE:20240916
DTSTAMP:20260424T013238
CREATED:20240909T144642Z
LAST-MODIFIED:20240910T085639Z
UID:7079-1726358400-1726444799@www.bristolbaseball.co.uk
SUMMARY:BBF Single A Playoff Qualifier - BRISTOL BUCCANEERS @ Milton Keynes Bucks
DESCRIPTION:The Bristol Buccaneers take on the Milton Keynes Bucks at Grovehill Ballpark\, Hemel Hempstead in the Single A qualifier round. First pitch at 2:30pm. \nThe winners will head to Farnham Park the following weekend to take on the Herts Ravens in the semi final on the Saturday and potentially play in the final on Sunday.
URL:https://www.bristolbaseball.co.uk/event/bbf-single-a-playoff-qualifier-bristol-buccaneers-milton-keynes-bucks/
LOCATION:Grovehill Ballpark\, Washington Avenue\, Hemel Hempstead\, Hertfordshire\, HP2 6LB\, United Kingdom
CATEGORIES:BBF,Buccaneers,Gameday,Tournaments
END:VEVENT
BEGIN:VEVENT
DTSTART;VALUE=DATE:20240914
DTEND;VALUE=DATE:20240916
DTSTAMP:20260424T013238
CREATED:20240909T144119Z
LAST-MODIFIED:20240909T144148Z
UID:7077-1726272000-1726444799@www.bristolbaseball.co.uk
SUMMARY:BBF AAA Championship Series - BRISTOL BADGERS @ Croydon Pirates
DESCRIPTION:The Bristol Badgers take on Croydon Pirates in a 3-game series to crown the 2024 AAA Champions. \nGame 1 is Saturday at 11am.\nGame 2 is Sunday at 11am.\nIf needed\, Game 3 will be Sunday at 2:30pm
URL:https://www.bristolbaseball.co.uk/event/bbf-aaa-championship-series-bristol-badgers-croydon-pirates/
LOCATION:Farnham Park\, Beaconsfield Road\, Farnham Royal\, Slough\, SL2 3BP\, United Kingdom
CATEGORIES:Badgers,BBF,Gameday,Tournaments
END:VEVENT
BEGIN:VEVENT
DTSTART;VALUE=DATE:20240908
DTEND;VALUE=DATE:20240909
DTSTAMP:20260424T013238
CREATED:20240829T211912Z
LAST-MODIFIED:20240829T212008Z
UID:7060-1725753600-1725839999@www.bristolbaseball.co.uk
SUMMARY:BBF Postseason: Double A Quarter Finals ft. BRISTOL BATS
DESCRIPTION:All four Quarter Finals will be held at Grovehill in Hemel Hempstead. The Bristol Bats are involved\, as one of the designated home teams.
URL:https://www.bristolbaseball.co.uk/event/bbf-postseason-double-a-quarter-finals-ft-bristol-bats/
LOCATION:Grovehill Ballpark\, Washington Avenue\, Hemel Hempstead\, Hertfordshire\, HP2 6LB\, United Kingdom
CATEGORIES:Bats,BBF,Gameday
END:VEVENT
BEGIN:VEVENT
DTSTART;VALUE=DATE:20240908
DTEND;VALUE=DATE:20240909
DTSTAMP:20260424T013238
CREATED:20240829T211426Z
LAST-MODIFIED:20240829T212138Z
UID:7055-1725753600-1725839999@www.bristolbaseball.co.uk
SUMMARY:BBF Postseason: Triple A Semi Final - Liverpool Trojans @ BRISTOL BADGERS
DESCRIPTION:
URL:https://www.bristolbaseball.co.uk/event/bbf-postseason-liverpool-trojans-bristol-badgers/
LOCATION:Somerdale Pavilion\, Trajectus Way\, Keynsham\, BS31 2FW
CATEGORIES:Badgers,BBF,Gameday
END:VEVENT
BEGIN:VEVENT
DTSTART;VALUE=DATE:20240907
DTEND;VALUE=DATE:20240908
DTSTAMP:20260424T013238
CREATED:20240829T211805Z
LAST-MODIFIED:20240829T212043Z
UID:7057-1725667200-1725753599@www.bristolbaseball.co.uk
SUMMARY:BBF Postseason: Single A Quarter Final ft. BRISTOL BUCCANEERS
DESCRIPTION:All four Quarter Finals will be held at Grovehill in Hemel Hempstead. The Bristol Buccaneers are involved\, as one of the designated home teams.
URL:https://www.bristolbaseball.co.uk/event/bbf-postseason-single-a-quarter-final-ft-bristol-buccaneers/
LOCATION:Grovehill Ballpark\, Washington Avenue\, Hemel Hempstead\, Hertfordshire\, HP2 6LB\, United Kingdom
CATEGORIES:BBF,Buccaneers,Gameday
END:VEVENT
BEGIN:VEVENT
DTSTART;VALUE=DATE:20240804
DTEND;VALUE=DATE:20240805
DTSTAMP:20260424T013238
CREATED:20240313T005344Z
LAST-MODIFIED:20240313T011037Z
UID:6735-1722729600-1722815999@www.bristolbaseball.co.uk
SUMMARY:Weston Jets @ BRISTOL BUCCANEERS
DESCRIPTION:
URL:https://www.bristolbaseball.co.uk/event/weston-jets-bristol-buccaneers-3/
LOCATION:Somerdale Pavilion\, Trajectus Way\, Keynsham\, BS31 2FW
CATEGORIES:BBF,Buccaneers,Gameday,SWWBL
END:VEVENT
BEGIN:VEVENT
DTSTART;VALUE=DATE:20240728
DTEND;VALUE=DATE:20240729
DTSTAMP:20260424T013238
CREATED:20240313T005343Z
LAST-MODIFIED:20240313T011037Z
UID:6731-1722124800-1722211199@www.bristolbaseball.co.uk
SUMMARY:Bournemouth Bears 3 @ BRISTOL BUCCANEERS
DESCRIPTION:
URL:https://www.bristolbaseball.co.uk/event/bournemouth-bears-3-bristol-buccaneers-2/
LOCATION:Somerdale Pavilion\, Trajectus Way\, Keynsham\, BS31 2FW
CATEGORIES:BBF,Buccaneers,Gameday,SWWBL
END:VEVENT
BEGIN:VEVENT
DTSTART;VALUE=DATE:20240707
DTEND;VALUE=DATE:20240708
DTSTAMP:20260424T013238
CREATED:20240313T005313Z
LAST-MODIFIED:20240313T011005Z
UID:6722-1720310400-1720396799@www.bristolbaseball.co.uk
SUMMARY:BRISTOL BUCCANEERS @ Bournemouth Bears 3
DESCRIPTION:
URL:https://www.bristolbaseball.co.uk/event/bristol-buccaneers-bournemouth-bears-3-2/
LOCATION:Ferndown Leisure Centre\, Cherry Grove\, Bournemouth\, Dorset\, BH22 9EZ\, United Kingdom
CATEGORIES:BBF,Buccaneers,Gameday,SWWBL
END:VEVENT
BEGIN:VEVENT
DTSTART;VALUE=DATE:20240623
DTEND;VALUE=DATE:20240624
DTSTAMP:20260424T013238
CREATED:20240313T005258Z
LAST-MODIFIED:20240313T010804Z
UID:6717-1719100800-1719187199@www.bristolbaseball.co.uk
SUMMARY:BRISTOL BUCCANEERS @ New Forest Knights
DESCRIPTION:
URL:https://www.bristolbaseball.co.uk/event/bristol-buccaneers-new-forest-knights-2/
LOCATION:Ballard School\, Fernhill Lane\, New Milton\, BH25 5SU\, United Kingdom
CATEGORIES:BBF,Buccaneers,Gameday,SWWBL
END:VEVENT
BEGIN:VEVENT
DTSTART;VALUE=DATE:20240602
DTEND;VALUE=DATE:20240603
DTSTAMP:20260424T013238
CREATED:20240313T005237Z
LAST-MODIFIED:20240313T010402Z
UID:6710-1717286400-1717372799@www.bristolbaseball.co.uk
SUMMARY:BRISTOL BUCCANEERS @ Cornish Claycutters
DESCRIPTION:
URL:https://www.bristolbaseball.co.uk/event/bristol-buccaneers-cornish-claycutters-3/
LOCATION:Cutters Field\, Tregye Road\, Truro\, Cornwall\, TR3 6JH\, United Kingdom
CATEGORIES:BBF,Buccaneers,Gameday,SWWBL
END:VEVENT
BEGIN:VEVENT
DTSTART;VALUE=DATE:20240519
DTEND;VALUE=DATE:20240520
DTSTAMP:20260424T013238
CREATED:20240313T005151Z
LAST-MODIFIED:20240313T010202Z
UID:6704-1716076800-1716163199@www.bristolbaseball.co.uk
SUMMARY:BRISTOL BUCCANEERS @ Cardiff Merlins 2
DESCRIPTION:
URL:https://www.bristolbaseball.co.uk/event/bristol-buccaneers-cardiff-merlins-2-2/
LOCATION:Pontcanna Fields\, Fields Park Road\, Cardiff\, South Glamorgan\, CF5 2AX\, United Kingdom
CATEGORIES:BBF,Buccaneers,Gameday,SWWBL
END:VEVENT
BEGIN:VEVENT
DTSTART;VALUE=DATE:20240512
DTEND;VALUE=DATE:20240513
DTSTAMP:20260424T013238
CREATED:20240313T005135Z
LAST-MODIFIED:20240313T010000Z
UID:6700-1715472000-1715558399@www.bristolbaseball.co.uk
SUMMARY:New Forest Knights @ BRISTOL BUCCANEERS
DESCRIPTION:
URL:https://www.bristolbaseball.co.uk/event/new-forest-knights-bristol-buccaneers-2/
LOCATION:Somerdale Pavilion\, Trajectus Way\, Keynsham\, BS31 2FW
CATEGORIES:BBF,Buccaneers,Gameday,SWWBL
END:VEVENT
BEGIN:VEVENT
DTSTART;VALUE=DATE:20240505
DTEND;VALUE=DATE:20240506
DTSTAMP:20260424T013238
CREATED:20240313T005134Z
LAST-MODIFIED:20240313T010000Z
UID:6697-1714867200-1714953599@www.bristolbaseball.co.uk
SUMMARY:BRISTOL BUCCANEERS @ Taunton Pistols
DESCRIPTION:
URL:https://www.bristolbaseball.co.uk/event/bristol-buccaneers-taunton-pistols-2/
LOCATION:Taunton Green\, Cheddon Road\, Taunton\, Somerset\, TA2 7NU\, United Kingdom
CATEGORIES:BBF,Buccaneers,Gameday,SWWBL
END:VEVENT
BEGIN:VEVENT
DTSTART;VALUE=DATE:20240428
DTEND;VALUE=DATE:20240429
DTSTAMP:20260424T013238
CREATED:20240313T005125Z
LAST-MODIFIED:20240313T005944Z
UID:6694-1714262400-1714348799@www.bristolbaseball.co.uk
SUMMARY:Cornish Pioneers @ BRISTOL BUCCANEERS
DESCRIPTION:
URL:https://www.bristolbaseball.co.uk/event/cornish-pioneers-bristol-buccaneers-2/
LOCATION:Somerdale Pavilion\, Trajectus Way\, Keynsham\, BS31 2FW
CATEGORIES:BBF,Buccaneers,Gameday,SWWBL
END:VEVENT
BEGIN:VEVENT
DTSTART;VALUE=DATE:20240421
DTEND;VALUE=DATE:20240422
DTSTAMP:20260424T013238
CREATED:20240313T005123Z
LAST-MODIFIED:20240313T005943Z
UID:6690-1713657600-1713743999@www.bristolbaseball.co.uk
SUMMARY:Taunton Muskets @ BRISTOL BUCCANEERS
DESCRIPTION:
URL:https://www.bristolbaseball.co.uk/event/taunton-muskets-bristol-buccaneers-3/
LOCATION:Somerdale Pavilion\, Trajectus Way\, Keynsham\, BS31 2FW
CATEGORIES:BBF,Buccaneers,Gameday,SWWBL
END:VEVENT
BEGIN:VEVENT
DTSTART;VALUE=DATE:20240414
DTEND;VALUE=DATE:20240415
DTSTAMP:20260424T013238
CREATED:20240313T005123Z
LAST-MODIFIED:20240313T005943Z
UID:6688-1713052800-1713139199@www.bristolbaseball.co.uk
SUMMARY:Cardiff Merlins 2 @ BRISTOL BUCCANEERS
DESCRIPTION:
URL:https://www.bristolbaseball.co.uk/event/cardiff-merlins-2-bristol-buccaneers-2/
LOCATION:Somerdale Pavilion\, Trajectus Way\, Keynsham\, BS31 2FW
CATEGORIES:BBF,Buccaneers,Gameday,SWWBL
END:VEVENT
BEGIN:VEVENT
DTSTART;TZID=Europe/London:20240324T120000
DTEND;TZID=Europe/London:20240324T120000
DTSTAMP:20260424T013238
CREATED:20240318T093448Z
LAST-MODIFIED:20240325T093557Z
UID:6873-1711281600-1711281600@www.bristolbaseball.co.uk
SUMMARY:FRIENDLY: New Forest Thunder @ BRISTOL BATS
DESCRIPTION:A pre-season friendly between the New Forest Thunder and the Bristol Bats\, to warm up for the coming season. Note: the Thunder are a AAA team this year\, whilst the Bats play in AA\, however both teams will be using rosters made up for players from throughout the clubs.
URL:https://www.bristolbaseball.co.uk/event/friendly-new-forest-thunder-bristol-bats/
LOCATION:Somerdale Pavilion\, Trajectus Way\, Keynsham\, BS31 2FW
CATEGORIES:Bats,Pre-Season
END:VEVENT
BEGIN:VEVENT
DTSTART;TZID=Europe/London:20240310T090000
DTEND;TZID=Europe/London:20240310T120000
DTSTAMP:20260424T013238
CREATED:20240202T141028Z
LAST-MODIFIED:20240202T141346Z
UID:6555-1710061200-1710072000@www.bristolbaseball.co.uk
SUMMARY:Indoor Training: Ohtani Group
DESCRIPTION:
URL:https://www.bristolbaseball.co.uk/event/indoor-training-ohtani-group-6/
LOCATION:Merchants Academy Sports Centre\, Molesworth Drive\, Bristol\, BS13 9BJ\, United Kingdom
CATEGORIES:Badgers,Bats,Bobcats,Bristol Baseball Club Teams,Brunels,Buccaneers,Pre-Season,Training
END:VEVENT
BEGIN:VEVENT
DTSTART;TZID=Europe/London:20240309T090000
DTEND;TZID=Europe/London:20240309T120000
DTSTAMP:20260424T013238
CREATED:20240202T141013Z
LAST-MODIFIED:20240202T141336Z
UID:6554-1709974800-1709985600@www.bristolbaseball.co.uk
SUMMARY:Indoor Training: Acuna Group
DESCRIPTION:
URL:https://www.bristolbaseball.co.uk/event/indoor-training-acuna-group-5/
LOCATION:Merchants Academy Sports Centre\, Molesworth Drive\, Bristol\, BS13 9BJ\, United Kingdom
CATEGORIES:Badgers,Bats,Bobcats,Bristol Baseball Club Teams,Brunels,Buccaneers,Pre-Season,Training
END:VEVENT
BEGIN:VEVENT
DTSTART;TZID=Europe/London:20240303T090000
DTEND;TZID=Europe/London:20240303T120000
DTSTAMP:20260424T013238
CREATED:20240202T141013Z
LAST-MODIFIED:20240202T141324Z
UID:6553-1709456400-1709467200@www.bristolbaseball.co.uk
SUMMARY:Indoor Training: Ohtani Group
DESCRIPTION:
URL:https://www.bristolbaseball.co.uk/event/indoor-training-ohtani-group-5/
LOCATION:Merchants Academy Sports Centre\, Molesworth Drive\, Bristol\, BS13 9BJ\, United Kingdom
CATEGORIES:Badgers,Bats,Bobcats,Bristol Baseball Club Teams,Brunels,Buccaneers,Pre-Season,Training
END:VEVENT
BEGIN:VEVENT
DTSTART;TZID=Europe/London:20240303T090000
DTEND;TZID=Europe/London:20240303T113000
DTSTAMP:20260424T013238
CREATED:20240202T141013Z
LAST-MODIFIED:20240202T141313Z
UID:6552-1709456400-1709465400@www.bristolbaseball.co.uk
SUMMARY:Indoor Training: Acuna Group
DESCRIPTION:
URL:https://www.bristolbaseball.co.uk/event/indoor-training-acuna-group-4/
LOCATION:Merchants Academy Sports Centre\, Molesworth Drive\, Bristol\, BS13 9BJ\, United Kingdom
CATEGORIES:Badgers,Bats,Bobcats,Bristol Baseball Club Teams,Brunels,Buccaneers,Pre-Season,Training
END:VEVENT
BEGIN:VEVENT
DTSTART;TZID=Europe/London:20240225T090000
DTEND;TZID=Europe/London:20240225T120000
DTSTAMP:20260424T013238
CREATED:20240202T141012Z
LAST-MODIFIED:20240202T141300Z
UID:6551-1708851600-1708862400@www.bristolbaseball.co.uk
SUMMARY:Indoor Training: Ohtani Group
DESCRIPTION:
URL:https://www.bristolbaseball.co.uk/event/indoor-training-ohtani-group-4/
LOCATION:Merchants Academy Sports Centre\, Molesworth Drive\, Bristol\, BS13 9BJ\, United Kingdom
CATEGORIES:Badgers,Bats,Bobcats,Bristol Baseball Club Teams,Brunels,Buccaneers,Pre-Season,Training
END:VEVENT
BEGIN:VEVENT
DTSTART;TZID=Europe/London:20240224T090000
DTEND;TZID=Europe/London:20240224T120000
DTSTAMP:20260424T013238
CREATED:20240202T141012Z
LAST-MODIFIED:20240202T141249Z
UID:6550-1708765200-1708776000@www.bristolbaseball.co.uk
SUMMARY:Indoor Training: Acuna Group
DESCRIPTION:
URL:https://www.bristolbaseball.co.uk/event/indoor-training-acuna-group-3/
LOCATION:Merchants Academy Sports Centre\, Molesworth Drive\, Bristol\, BS13 9BJ\, United Kingdom
CATEGORIES:Badgers,Bats,Bobcats,Bristol Baseball Club Teams,Brunels,Buccaneers,Pre-Season,Training
END:VEVENT
BEGIN:VEVENT
DTSTART;TZID=Europe/London:20240218T090000
DTEND;TZID=Europe/London:20240218T120000
DTSTAMP:20260424T013238
CREATED:20240202T141011Z
LAST-MODIFIED:20240202T141235Z
UID:6549-1708246800-1708257600@www.bristolbaseball.co.uk
SUMMARY:Indoor Training: Ohtani Group
DESCRIPTION:
URL:https://www.bristolbaseball.co.uk/event/indoor-training-ohtani-group-3/
LOCATION:Merchants Academy Sports Centre\, Molesworth Drive\, Bristol\, BS13 9BJ\, United Kingdom
CATEGORIES:Badgers,Bats,Bobcats,Bristol Baseball Club Teams,Brunels,Buccaneers,Pre-Season,Training
END:VEVENT
END:VCALENDAR