BEGIN:VCALENDAR
VERSION:2.0
PRODID:-//Bristol Baseball Club - ECPv6.15.20//NONSGML v1.0//EN
CALSCALE:GREGORIAN
METHOD:PUBLISH
X-WR-CALNAME:Bristol Baseball Club
X-ORIGINAL-URL:https://www.bristolbaseball.co.uk
X-WR-CALDESC:Events for Bristol Baseball Club
REFRESH-INTERVAL;VALUE=DURATION:PT1H
X-Robots-Tag:noindex
X-PUBLISHED-TTL:PT1H
BEGIN:VTIMEZONE
TZID:Europe/London
BEGIN:DAYLIGHT
TZOFFSETFROM:+0000
TZOFFSETTO:+0100
TZNAME:BST
DTSTART:20250330T010000
END:DAYLIGHT
BEGIN:STANDARD
TZOFFSETFROM:+0100
TZOFFSETTO:+0000
TZNAME:GMT
DTSTART:20251026T010000
END:STANDARD
BEGIN:DAYLIGHT
TZOFFSETFROM:+0000
TZOFFSETTO:+0100
TZNAME:BST
DTSTART:20260329T010000
END:DAYLIGHT
BEGIN:STANDARD
TZOFFSETFROM:+0100
TZOFFSETTO:+0000
TZNAME:GMT
DTSTART:20261025T010000
END:STANDARD
BEGIN:DAYLIGHT
TZOFFSETFROM:+0000
TZOFFSETTO:+0100
TZNAME:BST
DTSTART:20270328T010000
END:DAYLIGHT
BEGIN:STANDARD
TZOFFSETFROM:+0100
TZOFFSETTO:+0000
TZNAME:GMT
DTSTART:20271031T010000
END:STANDARD
END:VTIMEZONE
BEGIN:VEVENT
DTSTART;VALUE=DATE:20260509
DTEND;VALUE=DATE:20260510
DTSTAMP:20260423T220026
CREATED:20260324T115750Z
LAST-MODIFIED:20260324T115750Z
UID:7578-1778284800-1778371199@www.bristolbaseball.co.uk
SUMMARY:BC Vetra @ BRISTOL BADGERS
DESCRIPTION:
URL:https://www.bristolbaseball.co.uk/event/bc-vetra-bristol-badgers/
LOCATION:Somerdale Pavilion\, Trajectus Way\, Keynsham\, BS31 2FW
CATEGORIES:Badgers,BBF,Gameday
END:VEVENT
BEGIN:VEVENT
DTSTART;VALUE=DATE:20260517
DTEND;VALUE=DATE:20260518
DTSTAMP:20260423T220026
CREATED:20260324T120007Z
LAST-MODIFIED:20260324T120007Z
UID:7584-1778976000-1779062399@www.bristolbaseball.co.uk
SUMMARY:Bracknell Inferno @ BRISTOL BADGERS
DESCRIPTION:
URL:https://www.bristolbaseball.co.uk/event/bracknell-inferno-bristol-badgers-8/
LOCATION:Somerdale Pavilion\, Trajectus Way\, Keynsham\, BS31 2FW
CATEGORIES:Badgers,BBF,Gameday
END:VEVENT
BEGIN:VEVENT
DTSTART;VALUE=DATE:20260530
DTEND;VALUE=DATE:20260531
DTSTAMP:20260423T220026
CREATED:20260324T120009Z
LAST-MODIFIED:20260324T124613Z
UID:7588-1780099200-1780185599@www.bristolbaseball.co.uk
SUMMARY:BRISTOL BADGERS @ BC Vetra
DESCRIPTION:
URL:https://www.bristolbaseball.co.uk/event/bristol-badgers-bc-vetra/
LOCATION:Saltford Sports Club\, Wedmore Road\, Saltford\, Saltford\, Bristol\, BS31 3BY\, United Kingdom
CATEGORIES:Badgers,BBF,Gameday
END:VEVENT
BEGIN:VEVENT
DTSTART;VALUE=DATE:20260607
DTEND;VALUE=DATE:20260608
DTSTAMP:20260423T220026
CREATED:20260324T120207Z
LAST-MODIFIED:20260324T120207Z
UID:7589-1780790400-1780876799@www.bristolbaseball.co.uk
SUMMARY:Richmond Roebucks @ BRISTOL BADGERS
DESCRIPTION:
URL:https://www.bristolbaseball.co.uk/event/richmond-roebucks-bristol-badgers-3/
LOCATION:Somerdale Pavilion\, Trajectus Way\, Keynsham\, BS31 2FW
CATEGORIES:Badgers,BBF,Gameday
END:VEVENT
BEGIN:VEVENT
DTSTART;VALUE=DATE:20260627
DTEND;VALUE=DATE:20260628
DTSTAMP:20260423T220026
CREATED:20260324T120408Z
LAST-MODIFIED:20260409T093350Z
UID:7594-1782518400-1782604799@www.bristolbaseball.co.uk
SUMMARY:BC Vetra @ BRISTOL BADGERS
DESCRIPTION:
URL:https://www.bristolbaseball.co.uk/event/bristol-badgers-bc-vetra-2/
LOCATION:Somerdale Pavilion\, Trajectus Way\, Keynsham\, BS31 2FW
CATEGORIES:Badgers,BBF,Gameday
END:VEVENT
BEGIN:VEVENT
DTSTART;VALUE=DATE:20260705
DTEND;VALUE=DATE:20260706
DTSTAMP:20260423T220026
CREATED:20260324T120409Z
LAST-MODIFIED:20260324T120409Z
UID:7597-1783209600-1783295999@www.bristolbaseball.co.uk
SUMMARY:BRISTOL BADGERS @ Birmingham Metalheads
DESCRIPTION:
URL:https://www.bristolbaseball.co.uk/event/bristol-badgers-birmingham-metalheads-3/
LOCATION:Marston Green Recreation Ground\, Bickenhill Road\, Solihull\, West Midlands\, B37 7EL\, United Kingdom
CATEGORIES:Badgers,BBF,Gameday
END:VEVENT
BEGIN:VEVENT
DTSTART;VALUE=DATE:20260711
DTEND;VALUE=DATE:20260712
DTSTAMP:20260423T220026
CREATED:20260324T120610Z
LAST-MODIFIED:20260324T120610Z
UID:7601-1783728000-1783814399@www.bristolbaseball.co.uk
SUMMARY:BRISTOL BADGERS @ Richmond Roebucks
DESCRIPTION:
URL:https://www.bristolbaseball.co.uk/event/bristol-badgers-richmond-roebucks-3/
LOCATION:Flood Field\, Kew & Ham Sports Association\, Riverside Drive\, Ham\, Wiltshire\, TW10 7QA\, United Kingdom
CATEGORIES:Badgers,BBF,Gameday
END:VEVENT
BEGIN:VEVENT
DTSTART;VALUE=DATE:20260719
DTEND;VALUE=DATE:20260720
DTSTAMP:20260423T220026
CREATED:20260324T120811Z
LAST-MODIFIED:20260324T120811Z
UID:7604-1784419200-1784505599@www.bristolbaseball.co.uk
SUMMARY:Birmingham Metalheads @ BRISTOL BADGERS
DESCRIPTION:
URL:https://www.bristolbaseball.co.uk/event/birmingham-metalheads-bristol-badgers-3/
LOCATION:Somerdale Pavilion\, Trajectus Way\, Keynsham\, BS31 2FW
CATEGORIES:Badgers,BBF,Gameday
END:VEVENT
BEGIN:VEVENT
DTSTART;VALUE=DATE:20260725
DTEND;VALUE=DATE:20260726
DTSTAMP:20260423T220026
CREATED:20260324T120812Z
LAST-MODIFIED:20260324T120812Z
UID:7608-1784937600-1785023999@www.bristolbaseball.co.uk
SUMMARY:BRISTOL BADGERS @ Richmond Roebucks
DESCRIPTION:
URL:https://www.bristolbaseball.co.uk/event/bristol-badgers-richmond-roebucks-4/
LOCATION:Flood Field\, Kew & Ham Sports Association\, Riverside Drive\, Ham\, Wiltshire\, TW10 7QA\, United Kingdom
CATEGORIES:Badgers,BBF,Gameday
END:VEVENT
BEGIN:VEVENT
DTSTART;VALUE=DATE:20260816
DTEND;VALUE=DATE:20260817
DTSTAMP:20260423T220026
CREATED:20260324T120933Z
LAST-MODIFIED:20260324T120933Z
UID:7615-1786838400-1786924799@www.bristolbaseball.co.uk
SUMMARY:BRISTOL BADGERS @ Birmingham Metalheads
DESCRIPTION:
URL:https://www.bristolbaseball.co.uk/event/bristol-badgers-birmingham-metalheads-4/
LOCATION:Marston Green Recreation Ground\, Bickenhill Road\, Solihull\, West Midlands\, B37 7EL\, United Kingdom
CATEGORIES:Badgers,BBF,Gameday
END:VEVENT
BEGIN:VEVENT
DTSTART;VALUE=DATE:20260823
DTEND;VALUE=DATE:20260824
DTSTAMP:20260423T220026
CREATED:20260324T120949Z
LAST-MODIFIED:20260324T120949Z
UID:7619-1787443200-1787529599@www.bristolbaseball.co.uk
SUMMARY:BRISTOL BADGERS @ Bracknell Inferno
DESCRIPTION:
URL:https://www.bristolbaseball.co.uk/event/bristol-badgers-bracknell-inferno-9/
LOCATION:Westmorland Park\, Westmorland Drive\, Warfield\, Berkshire\, RG42 3QP\, United Kingdom
CATEGORIES:Badgers,BBF,Gameday
END:VEVENT
END:VCALENDAR